BEGIN:VCALENDAR
VERSION:2.0
PRODID:-//      Town of Guilford, Vermont - ECPv6.15.20//NONSGML v1.0//EN
CALSCALE:GREGORIAN
METHOD:PUBLISH
X-ORIGINAL-URL:https://guilfordvt.gov
X-WR-CALDESC:Events for       Town of Guilford, Vermont
REFRESH-INTERVAL;VALUE=DURATION:PT1H
X-Robots-Tag:noindex
X-PUBLISHED-TTL:PT1H
BEGIN:VTIMEZONE
TZID:America/New_York
BEGIN:DAYLIGHT
TZOFFSETFROM:-0500
TZOFFSETTO:-0400
TZNAME:EDT
DTSTART:20250309T070000
END:DAYLIGHT
BEGIN:STANDARD
TZOFFSETFROM:-0400
TZOFFSETTO:-0500
TZNAME:EST
DTSTART:20251102T060000
END:STANDARD
BEGIN:DAYLIGHT
TZOFFSETFROM:-0500
TZOFFSETTO:-0400
TZNAME:EDT
DTSTART:20260308T070000
END:DAYLIGHT
BEGIN:STANDARD
TZOFFSETFROM:-0400
TZOFFSETTO:-0500
TZNAME:EST
DTSTART:20261101T060000
END:STANDARD
BEGIN:DAYLIGHT
TZOFFSETFROM:-0500
TZOFFSETTO:-0400
TZNAME:EDT
DTSTART:20270314T070000
END:DAYLIGHT
BEGIN:STANDARD
TZOFFSETFROM:-0400
TZOFFSETTO:-0500
TZNAME:EST
DTSTART:20271107T060000
END:STANDARD
END:VTIMEZONE
BEGIN:VEVENT
DTSTART;TZID=America/New_York:20260322T150000
DTEND;TZID=America/New_York:20260322T160000
DTSTAMP:20260420T133109
CREATED:20260209T184228Z
LAST-MODIFIED:20260209T184228Z
UID:10006938-1774191600-1774195200@guilfordvt.gov
SUMMARY:Spanish Speaking Meet Up Group
DESCRIPTION:Hola\, \nThe Guilford Recreation Commission is glad to be hosting a Spanish Speaking Meet up Group every 2nd and 4th Sunday at the Guilford Free Library. This group is open to anyone interested in practicing Spanish. Although we are not a class we hope to learn from one another and pull from various regional dialects and slang to explore the Spanish language. The group will meet  until the end of April after which we will gauge folks’ interest in continuing the group. \nHasta pronto\, \nEl Recreation Commission \n 
URL:https://guilfordvt.gov/event/spanish-speaking-meet-up-group/2026-03-22/
LOCATION:Guilford Free Library\, 4024 Guilford Center Rd\, Guilford\, VT
CATEGORIES:Guilford Recreation Calendar
END:VEVENT
BEGIN:VEVENT
DTSTART;TZID=America/New_York:20260322T183000
DTEND;TZID=America/New_York:20260322T210000
DTSTAMP:20260420T133109
CREATED:20260205T133840Z
LAST-MODIFIED:20260205T133840Z
UID:10006933-1774204200-1774213200@guilfordvt.gov
SUMMARY:Brattleboro Bal Folk Community Dance
DESCRIPTION:Fun\, accessible French and European traditional dances.  No experience or partner necessary. Live music and dance instruction by Eloise & Co. \nDance: Suggested donation sliding scale $12-$25 \n———————————————————– \nBal folk is a vibrant and inclusive dance tradition that started out in France\, incorporated a bunch of other European influences\, and took Europe and the UK by storm during the past 50 years or so. It has become increasingly popular in North America\, no doubt due to its accessibility and captivating energy. You can easily join in even if you’ve never danced before. At Brattleboro Bal Folk\, all dances are taught\, and part of the big bal folk tradition all over the world is looking around to see what other people are doing and jumping in to try it out. No experience or partner required! Dances are in lines\, spirals\, circles\, and pairs and range from hypnotic to meditative to raucous. The music is infectious! \nPlease bring a clean pair of shoes to change into\, or clean your shoes off thoroughly once you get inside\, before you step onto the dance floor. We want to protect that beautiful wood floor! \nShare our video with friends to whet their appetite! \nhttps://youtu.be/Y8OUy5JM6Jw?si=s8-aKotdPEayFcW0  \nMasks are welcome but not required. Please stay home if you feel ill or are testing positive for Covid-19. \nUpcoming dances: \nApril 26- Broad Brook Community Center \nMay 30- note different location\, Guiding Star Grange\, Greenfield\, MA\, 5-6:30 pm \nJune 14- Guilford Community Park Pavilion\, 4:30-5:45 Jam Session\, 5:45-6:30 Bring your own picnic\, 6:30-9 Dance Party
URL:https://guilfordvt.gov/event/brattleboro-bal-folk-community-dance-2/
LOCATION:Broad Brook Community Center\, 3940 Guilford Center Road\, Guilford\, VT\, 05301\, United States
CATEGORIES:Guilford Recreation Calendar
ATTACH;FMTTYPE=image/jpeg:https://guilfordvt.gov/wp-content/uploads/2026/02/Image-11-18-25-at-9.55-PM.jpeg
ORGANIZER;CN="Brattleboro Bal Folk":MAILTO:rachel@rachelbellmusic.com
END:VEVENT
END:VCALENDAR