BEGIN:VCALENDAR
VERSION:2.0
PRODID:-//      Town of Guilford, Vermont - ECPv6.15.20//NONSGML v1.0//EN
CALSCALE:GREGORIAN
METHOD:PUBLISH
X-WR-CALNAME:      Town of Guilford, Vermont
X-ORIGINAL-URL:https://guilfordvt.gov
X-WR-CALDESC:Events for       Town of Guilford, Vermont
REFRESH-INTERVAL;VALUE=DURATION:PT1H
X-Robots-Tag:noindex
X-PUBLISHED-TTL:PT1H
BEGIN:VTIMEZONE
TZID:America/New_York
BEGIN:DAYLIGHT
TZOFFSETFROM:-0500
TZOFFSETTO:-0400
TZNAME:EDT
DTSTART:20250309T070000
END:DAYLIGHT
BEGIN:STANDARD
TZOFFSETFROM:-0400
TZOFFSETTO:-0500
TZNAME:EST
DTSTART:20251102T060000
END:STANDARD
BEGIN:DAYLIGHT
TZOFFSETFROM:-0500
TZOFFSETTO:-0400
TZNAME:EDT
DTSTART:20260308T070000
END:DAYLIGHT
BEGIN:STANDARD
TZOFFSETFROM:-0400
TZOFFSETTO:-0500
TZNAME:EST
DTSTART:20261101T060000
END:STANDARD
BEGIN:DAYLIGHT
TZOFFSETFROM:-0500
TZOFFSETTO:-0400
TZNAME:EDT
DTSTART:20270314T070000
END:DAYLIGHT
BEGIN:STANDARD
TZOFFSETFROM:-0400
TZOFFSETTO:-0500
TZNAME:EST
DTSTART:20271107T060000
END:STANDARD
BEGIN:DAYLIGHT
TZOFFSETFROM:-0500
TZOFFSETTO:-0400
TZNAME:EDT
DTSTART:20280312T070000
END:DAYLIGHT
BEGIN:STANDARD
TZOFFSETFROM:-0400
TZOFFSETTO:-0500
TZNAME:EST
DTSTART:20281105T060000
END:STANDARD
END:VTIMEZONE
BEGIN:VEVENT
DTSTART;TZID=America/New_York:20260825T140000
DTEND;TZID=America/New_York:20260825T143000
DTSTAMP:20260421T055547
CREATED:20240930T173321Z
LAST-MODIFIED:20240930T173321Z
UID:10003314-1787666400-1787668200@guilfordvt.gov
SUMMARY:Storytime at the Library
DESCRIPTION:Join us for stories and songs at the library every Tuesday afternoon. Most suited for kids 5 and under\, but all are welcome. \nWe’d love to have you join us! We’ll sing a song\, read a story\, and make sure you’re all set with reading materials for you and your kid(s). It’s a great time to meet other parents and have time for kids to play together inside or outside at the library.
URL:https://guilfordvt.gov/event/storytime-at-the-library/2026-08-25/
LOCATION:Guilford Free Library\, 4024 Guilford Center Rd\, Guilford\, VT
CATEGORIES:Recreation Commission
ORGANIZER;CN="Guilford Free Library":MAILTO:staff@guilfordfreelibraryvt.org
END:VEVENT
BEGIN:VEVENT
DTSTART;TZID=America/New_York:20260901T140000
DTEND;TZID=America/New_York:20260901T143000
DTSTAMP:20260421T055547
CREATED:20240930T173321Z
LAST-MODIFIED:20240930T173321Z
UID:10003315-1788271200-1788273000@guilfordvt.gov
SUMMARY:Storytime at the Library
DESCRIPTION:Join us for stories and songs at the library every Tuesday afternoon. Most suited for kids 5 and under\, but all are welcome. \nWe’d love to have you join us! We’ll sing a song\, read a story\, and make sure you’re all set with reading materials for you and your kid(s). It’s a great time to meet other parents and have time for kids to play together inside or outside at the library.
URL:https://guilfordvt.gov/event/storytime-at-the-library/2026-09-01/
LOCATION:Guilford Free Library\, 4024 Guilford Center Rd\, Guilford\, VT
CATEGORIES:Recreation Commission
ORGANIZER;CN="Guilford Free Library":MAILTO:staff@guilfordfreelibraryvt.org
END:VEVENT
BEGIN:VEVENT
DTSTART;TZID=America/New_York:20260908T140000
DTEND;TZID=America/New_York:20260908T143000
DTSTAMP:20260421T055547
CREATED:20240930T173321Z
LAST-MODIFIED:20240930T173321Z
UID:10003316-1788876000-1788877800@guilfordvt.gov
SUMMARY:Storytime at the Library
DESCRIPTION:Join us for stories and songs at the library every Tuesday afternoon. Most suited for kids 5 and under\, but all are welcome. \nWe’d love to have you join us! We’ll sing a song\, read a story\, and make sure you’re all set with reading materials for you and your kid(s). It’s a great time to meet other parents and have time for kids to play together inside or outside at the library.
URL:https://guilfordvt.gov/event/storytime-at-the-library/2026-09-08/
LOCATION:Guilford Free Library\, 4024 Guilford Center Rd\, Guilford\, VT
CATEGORIES:Recreation Commission
ORGANIZER;CN="Guilford Free Library":MAILTO:staff@guilfordfreelibraryvt.org
END:VEVENT
BEGIN:VEVENT
DTSTART;TZID=America/New_York:20260915T140000
DTEND;TZID=America/New_York:20260915T143000
DTSTAMP:20260421T055547
CREATED:20240930T173321Z
LAST-MODIFIED:20240930T173321Z
UID:10003317-1789480800-1789482600@guilfordvt.gov
SUMMARY:Storytime at the Library
DESCRIPTION:Join us for stories and songs at the library every Tuesday afternoon. Most suited for kids 5 and under\, but all are welcome. \nWe’d love to have you join us! We’ll sing a song\, read a story\, and make sure you’re all set with reading materials for you and your kid(s). It’s a great time to meet other parents and have time for kids to play together inside or outside at the library.
URL:https://guilfordvt.gov/event/storytime-at-the-library/2026-09-15/
LOCATION:Guilford Free Library\, 4024 Guilford Center Rd\, Guilford\, VT
CATEGORIES:Recreation Commission
ORGANIZER;CN="Guilford Free Library":MAILTO:staff@guilfordfreelibraryvt.org
END:VEVENT
BEGIN:VEVENT
DTSTART;TZID=America/New_York:20260922T140000
DTEND;TZID=America/New_York:20260922T143000
DTSTAMP:20260421T055547
CREATED:20240930T173321Z
LAST-MODIFIED:20240930T173321Z
UID:10003318-1790085600-1790087400@guilfordvt.gov
SUMMARY:Storytime at the Library
DESCRIPTION:Join us for stories and songs at the library every Tuesday afternoon. Most suited for kids 5 and under\, but all are welcome. \nWe’d love to have you join us! We’ll sing a song\, read a story\, and make sure you’re all set with reading materials for you and your kid(s). It’s a great time to meet other parents and have time for kids to play together inside or outside at the library.
URL:https://guilfordvt.gov/event/storytime-at-the-library/2026-09-22/
LOCATION:Guilford Free Library\, 4024 Guilford Center Rd\, Guilford\, VT
CATEGORIES:Recreation Commission
ORGANIZER;CN="Guilford Free Library":MAILTO:staff@guilfordfreelibraryvt.org
END:VEVENT
BEGIN:VEVENT
DTSTART;TZID=America/New_York:20260929T140000
DTEND;TZID=America/New_York:20260929T143000
DTSTAMP:20260421T055547
CREATED:20240930T173321Z
LAST-MODIFIED:20240930T173321Z
UID:10003319-1790690400-1790692200@guilfordvt.gov
SUMMARY:Storytime at the Library
DESCRIPTION:Join us for stories and songs at the library every Tuesday afternoon. Most suited for kids 5 and under\, but all are welcome. \nWe’d love to have you join us! We’ll sing a song\, read a story\, and make sure you’re all set with reading materials for you and your kid(s). It’s a great time to meet other parents and have time for kids to play together inside or outside at the library.
URL:https://guilfordvt.gov/event/storytime-at-the-library/2026-09-29/
LOCATION:Guilford Free Library\, 4024 Guilford Center Rd\, Guilford\, VT
CATEGORIES:Recreation Commission
ORGANIZER;CN="Guilford Free Library":MAILTO:staff@guilfordfreelibraryvt.org
END:VEVENT
BEGIN:VEVENT
DTSTART;TZID=America/New_York:20261006T140000
DTEND;TZID=America/New_York:20261006T143000
DTSTAMP:20260421T055547
CREATED:20240930T173321Z
LAST-MODIFIED:20240930T173321Z
UID:10003320-1791295200-1791297000@guilfordvt.gov
SUMMARY:Storytime at the Library
DESCRIPTION:Join us for stories and songs at the library every Tuesday afternoon. Most suited for kids 5 and under\, but all are welcome. \nWe’d love to have you join us! We’ll sing a song\, read a story\, and make sure you’re all set with reading materials for you and your kid(s). It’s a great time to meet other parents and have time for kids to play together inside or outside at the library.
URL:https://guilfordvt.gov/event/storytime-at-the-library/2026-10-06/
LOCATION:Guilford Free Library\, 4024 Guilford Center Rd\, Guilford\, VT
CATEGORIES:Recreation Commission
ORGANIZER;CN="Guilford Free Library":MAILTO:staff@guilfordfreelibraryvt.org
END:VEVENT
BEGIN:VEVENT
DTSTART;TZID=America/New_York:20261013T140000
DTEND;TZID=America/New_York:20261013T143000
DTSTAMP:20260421T055547
CREATED:20240930T173321Z
LAST-MODIFIED:20240930T173321Z
UID:10003321-1791900000-1791901800@guilfordvt.gov
SUMMARY:Storytime at the Library
DESCRIPTION:Join us for stories and songs at the library every Tuesday afternoon. Most suited for kids 5 and under\, but all are welcome. \nWe’d love to have you join us! We’ll sing a song\, read a story\, and make sure you’re all set with reading materials for you and your kid(s). It’s a great time to meet other parents and have time for kids to play together inside or outside at the library.
URL:https://guilfordvt.gov/event/storytime-at-the-library/2026-10-13/
LOCATION:Guilford Free Library\, 4024 Guilford Center Rd\, Guilford\, VT
CATEGORIES:Recreation Commission
ORGANIZER;CN="Guilford Free Library":MAILTO:staff@guilfordfreelibraryvt.org
END:VEVENT
BEGIN:VEVENT
DTSTART;TZID=America/New_York:20261020T140000
DTEND;TZID=America/New_York:20261020T143000
DTSTAMP:20260421T055547
CREATED:20240930T173321Z
LAST-MODIFIED:20240930T173321Z
UID:10003322-1792504800-1792506600@guilfordvt.gov
SUMMARY:Storytime at the Library
DESCRIPTION:Join us for stories and songs at the library every Tuesday afternoon. Most suited for kids 5 and under\, but all are welcome. \nWe’d love to have you join us! We’ll sing a song\, read a story\, and make sure you’re all set with reading materials for you and your kid(s). It’s a great time to meet other parents and have time for kids to play together inside or outside at the library.
URL:https://guilfordvt.gov/event/storytime-at-the-library/2026-10-20/
LOCATION:Guilford Free Library\, 4024 Guilford Center Rd\, Guilford\, VT
CATEGORIES:Recreation Commission
ORGANIZER;CN="Guilford Free Library":MAILTO:staff@guilfordfreelibraryvt.org
END:VEVENT
BEGIN:VEVENT
DTSTART;TZID=America/New_York:20261027T140000
DTEND;TZID=America/New_York:20261027T143000
DTSTAMP:20260421T055547
CREATED:20240930T173321Z
LAST-MODIFIED:20240930T173321Z
UID:10003323-1793109600-1793111400@guilfordvt.gov
SUMMARY:Storytime at the Library
DESCRIPTION:Join us for stories and songs at the library every Tuesday afternoon. Most suited for kids 5 and under\, but all are welcome. \nWe’d love to have you join us! We’ll sing a song\, read a story\, and make sure you’re all set with reading materials for you and your kid(s). It’s a great time to meet other parents and have time for kids to play together inside or outside at the library.
URL:https://guilfordvt.gov/event/storytime-at-the-library/2026-10-27/
LOCATION:Guilford Free Library\, 4024 Guilford Center Rd\, Guilford\, VT
CATEGORIES:Recreation Commission
ORGANIZER;CN="Guilford Free Library":MAILTO:staff@guilfordfreelibraryvt.org
END:VEVENT
BEGIN:VEVENT
DTSTART;TZID=America/New_York:20261103T140000
DTEND;TZID=America/New_York:20261103T143000
DTSTAMP:20260421T055547
CREATED:20240930T173321Z
LAST-MODIFIED:20240930T173321Z
UID:10003324-1793714400-1793716200@guilfordvt.gov
SUMMARY:Storytime at the Library
DESCRIPTION:Join us for stories and songs at the library every Tuesday afternoon. Most suited for kids 5 and under\, but all are welcome. \nWe’d love to have you join us! We’ll sing a song\, read a story\, and make sure you’re all set with reading materials for you and your kid(s). It’s a great time to meet other parents and have time for kids to play together inside or outside at the library.
URL:https://guilfordvt.gov/event/storytime-at-the-library/2026-11-03/
LOCATION:Guilford Free Library\, 4024 Guilford Center Rd\, Guilford\, VT
CATEGORIES:Recreation Commission
ORGANIZER;CN="Guilford Free Library":MAILTO:staff@guilfordfreelibraryvt.org
END:VEVENT
BEGIN:VEVENT
DTSTART;TZID=America/New_York:20261110T140000
DTEND;TZID=America/New_York:20261110T143000
DTSTAMP:20260421T055547
CREATED:20240930T173321Z
LAST-MODIFIED:20240930T173321Z
UID:10003325-1794319200-1794321000@guilfordvt.gov
SUMMARY:Storytime at the Library
DESCRIPTION:Join us for stories and songs at the library every Tuesday afternoon. Most suited for kids 5 and under\, but all are welcome. \nWe’d love to have you join us! We’ll sing a song\, read a story\, and make sure you’re all set with reading materials for you and your kid(s). It’s a great time to meet other parents and have time for kids to play together inside or outside at the library.
URL:https://guilfordvt.gov/event/storytime-at-the-library/2026-11-10/
LOCATION:Guilford Free Library\, 4024 Guilford Center Rd\, Guilford\, VT
CATEGORIES:Recreation Commission
ORGANIZER;CN="Guilford Free Library":MAILTO:staff@guilfordfreelibraryvt.org
END:VEVENT
BEGIN:VEVENT
DTSTART;TZID=America/New_York:20261117T140000
DTEND;TZID=America/New_York:20261117T143000
DTSTAMP:20260421T055547
CREATED:20240930T173321Z
LAST-MODIFIED:20240930T173321Z
UID:10003326-1794924000-1794925800@guilfordvt.gov
SUMMARY:Storytime at the Library
DESCRIPTION:Join us for stories and songs at the library every Tuesday afternoon. Most suited for kids 5 and under\, but all are welcome. \nWe’d love to have you join us! We’ll sing a song\, read a story\, and make sure you’re all set with reading materials for you and your kid(s). It’s a great time to meet other parents and have time for kids to play together inside or outside at the library.
URL:https://guilfordvt.gov/event/storytime-at-the-library/2026-11-17/
LOCATION:Guilford Free Library\, 4024 Guilford Center Rd\, Guilford\, VT
CATEGORIES:Recreation Commission
ORGANIZER;CN="Guilford Free Library":MAILTO:staff@guilfordfreelibraryvt.org
END:VEVENT
BEGIN:VEVENT
DTSTART;TZID=America/New_York:20261124T140000
DTEND;TZID=America/New_York:20261124T143000
DTSTAMP:20260421T055547
CREATED:20240930T173321Z
LAST-MODIFIED:20240930T173321Z
UID:10003327-1795528800-1795530600@guilfordvt.gov
SUMMARY:Storytime at the Library
DESCRIPTION:Join us for stories and songs at the library every Tuesday afternoon. Most suited for kids 5 and under\, but all are welcome. \nWe’d love to have you join us! We’ll sing a song\, read a story\, and make sure you’re all set with reading materials for you and your kid(s). It’s a great time to meet other parents and have time for kids to play together inside or outside at the library.
URL:https://guilfordvt.gov/event/storytime-at-the-library/2026-11-24/
LOCATION:Guilford Free Library\, 4024 Guilford Center Rd\, Guilford\, VT
CATEGORIES:Recreation Commission
ORGANIZER;CN="Guilford Free Library":MAILTO:staff@guilfordfreelibraryvt.org
END:VEVENT
BEGIN:VEVENT
DTSTART;TZID=America/New_York:20261201T140000
DTEND;TZID=America/New_York:20261201T143000
DTSTAMP:20260421T055547
CREATED:20240930T173321Z
LAST-MODIFIED:20240930T173321Z
UID:10003328-1796133600-1796135400@guilfordvt.gov
SUMMARY:Storytime at the Library
DESCRIPTION:Join us for stories and songs at the library every Tuesday afternoon. Most suited for kids 5 and under\, but all are welcome. \nWe’d love to have you join us! We’ll sing a song\, read a story\, and make sure you’re all set with reading materials for you and your kid(s). It’s a great time to meet other parents and have time for kids to play together inside or outside at the library.
URL:https://guilfordvt.gov/event/storytime-at-the-library/2026-12-01/
LOCATION:Guilford Free Library\, 4024 Guilford Center Rd\, Guilford\, VT
CATEGORIES:Recreation Commission
ORGANIZER;CN="Guilford Free Library":MAILTO:staff@guilfordfreelibraryvt.org
END:VEVENT
BEGIN:VEVENT
DTSTART;TZID=America/New_York:20261208T140000
DTEND;TZID=America/New_York:20261208T143000
DTSTAMP:20260421T055547
CREATED:20240930T173321Z
LAST-MODIFIED:20240930T173321Z
UID:10003329-1796738400-1796740200@guilfordvt.gov
SUMMARY:Storytime at the Library
DESCRIPTION:Join us for stories and songs at the library every Tuesday afternoon. Most suited for kids 5 and under\, but all are welcome. \nWe’d love to have you join us! We’ll sing a song\, read a story\, and make sure you’re all set with reading materials for you and your kid(s). It’s a great time to meet other parents and have time for kids to play together inside or outside at the library.
URL:https://guilfordvt.gov/event/storytime-at-the-library/2026-12-08/
LOCATION:Guilford Free Library\, 4024 Guilford Center Rd\, Guilford\, VT
CATEGORIES:Recreation Commission
ORGANIZER;CN="Guilford Free Library":MAILTO:staff@guilfordfreelibraryvt.org
END:VEVENT
BEGIN:VEVENT
DTSTART;TZID=America/New_York:20261215T140000
DTEND;TZID=America/New_York:20261215T143000
DTSTAMP:20260421T055547
CREATED:20240930T173321Z
LAST-MODIFIED:20240930T173321Z
UID:10003330-1797343200-1797345000@guilfordvt.gov
SUMMARY:Storytime at the Library
DESCRIPTION:Join us for stories and songs at the library every Tuesday afternoon. Most suited for kids 5 and under\, but all are welcome. \nWe’d love to have you join us! We’ll sing a song\, read a story\, and make sure you’re all set with reading materials for you and your kid(s). It’s a great time to meet other parents and have time for kids to play together inside or outside at the library.
URL:https://guilfordvt.gov/event/storytime-at-the-library/2026-12-15/
LOCATION:Guilford Free Library\, 4024 Guilford Center Rd\, Guilford\, VT
CATEGORIES:Recreation Commission
ORGANIZER;CN="Guilford Free Library":MAILTO:staff@guilfordfreelibraryvt.org
END:VEVENT
BEGIN:VEVENT
DTSTART;TZID=America/New_York:20261222T140000
DTEND;TZID=America/New_York:20261222T143000
DTSTAMP:20260421T055547
CREATED:20240930T173321Z
LAST-MODIFIED:20240930T173321Z
UID:10003331-1797948000-1797949800@guilfordvt.gov
SUMMARY:Storytime at the Library
DESCRIPTION:Join us for stories and songs at the library every Tuesday afternoon. Most suited for kids 5 and under\, but all are welcome. \nWe’d love to have you join us! We’ll sing a song\, read a story\, and make sure you’re all set with reading materials for you and your kid(s). It’s a great time to meet other parents and have time for kids to play together inside or outside at the library.
URL:https://guilfordvt.gov/event/storytime-at-the-library/2026-12-22/
LOCATION:Guilford Free Library\, 4024 Guilford Center Rd\, Guilford\, VT
CATEGORIES:Recreation Commission
ORGANIZER;CN="Guilford Free Library":MAILTO:staff@guilfordfreelibraryvt.org
END:VEVENT
BEGIN:VEVENT
DTSTART;TZID=America/New_York:20261229T140000
DTEND;TZID=America/New_York:20261229T143000
DTSTAMP:20260421T055547
CREATED:20240930T173321Z
LAST-MODIFIED:20240930T173321Z
UID:10003332-1798552800-1798554600@guilfordvt.gov
SUMMARY:Storytime at the Library
DESCRIPTION:Join us for stories and songs at the library every Tuesday afternoon. Most suited for kids 5 and under\, but all are welcome. \nWe’d love to have you join us! We’ll sing a song\, read a story\, and make sure you’re all set with reading materials for you and your kid(s). It’s a great time to meet other parents and have time for kids to play together inside or outside at the library.
URL:https://guilfordvt.gov/event/storytime-at-the-library/2026-12-29/
LOCATION:Guilford Free Library\, 4024 Guilford Center Rd\, Guilford\, VT
CATEGORIES:Recreation Commission
ORGANIZER;CN="Guilford Free Library":MAILTO:staff@guilfordfreelibraryvt.org
END:VEVENT
BEGIN:VEVENT
DTSTART;TZID=America/New_York:20270105T140000
DTEND;TZID=America/New_York:20270105T143000
DTSTAMP:20260421T055547
CREATED:20240930T173321Z
LAST-MODIFIED:20240930T173321Z
UID:10003333-1799157600-1799159400@guilfordvt.gov
SUMMARY:Storytime at the Library
DESCRIPTION:Join us for stories and songs at the library every Tuesday afternoon. Most suited for kids 5 and under\, but all are welcome. \nWe’d love to have you join us! We’ll sing a song\, read a story\, and make sure you’re all set with reading materials for you and your kid(s). It’s a great time to meet other parents and have time for kids to play together inside or outside at the library.
URL:https://guilfordvt.gov/event/storytime-at-the-library/2027-01-05/
LOCATION:Guilford Free Library\, 4024 Guilford Center Rd\, Guilford\, VT
CATEGORIES:Recreation Commission
ORGANIZER;CN="Guilford Free Library":MAILTO:staff@guilfordfreelibraryvt.org
END:VEVENT
BEGIN:VEVENT
DTSTART;TZID=America/New_York:20270112T140000
DTEND;TZID=America/New_York:20270112T143000
DTSTAMP:20260421T055547
CREATED:20240930T173321Z
LAST-MODIFIED:20240930T173321Z
UID:10003334-1799762400-1799764200@guilfordvt.gov
SUMMARY:Storytime at the Library
DESCRIPTION:Join us for stories and songs at the library every Tuesday afternoon. Most suited for kids 5 and under\, but all are welcome. \nWe’d love to have you join us! We’ll sing a song\, read a story\, and make sure you’re all set with reading materials for you and your kid(s). It’s a great time to meet other parents and have time for kids to play together inside or outside at the library.
URL:https://guilfordvt.gov/event/storytime-at-the-library/2027-01-12/
LOCATION:Guilford Free Library\, 4024 Guilford Center Rd\, Guilford\, VT
CATEGORIES:Recreation Commission
ORGANIZER;CN="Guilford Free Library":MAILTO:staff@guilfordfreelibraryvt.org
END:VEVENT
BEGIN:VEVENT
DTSTART;TZID=America/New_York:20270119T140000
DTEND;TZID=America/New_York:20270119T143000
DTSTAMP:20260421T055547
CREATED:20240930T173321Z
LAST-MODIFIED:20240930T173321Z
UID:10003335-1800367200-1800369000@guilfordvt.gov
SUMMARY:Storytime at the Library
DESCRIPTION:Join us for stories and songs at the library every Tuesday afternoon. Most suited for kids 5 and under\, but all are welcome. \nWe’d love to have you join us! We’ll sing a song\, read a story\, and make sure you’re all set with reading materials for you and your kid(s). It’s a great time to meet other parents and have time for kids to play together inside or outside at the library.
URL:https://guilfordvt.gov/event/storytime-at-the-library/2027-01-19/
LOCATION:Guilford Free Library\, 4024 Guilford Center Rd\, Guilford\, VT
CATEGORIES:Recreation Commission
ORGANIZER;CN="Guilford Free Library":MAILTO:staff@guilfordfreelibraryvt.org
END:VEVENT
BEGIN:VEVENT
DTSTART;TZID=America/New_York:20270126T140000
DTEND;TZID=America/New_York:20270126T143000
DTSTAMP:20260421T055547
CREATED:20240930T173321Z
LAST-MODIFIED:20240930T173321Z
UID:10003336-1800972000-1800973800@guilfordvt.gov
SUMMARY:Storytime at the Library
DESCRIPTION:Join us for stories and songs at the library every Tuesday afternoon. Most suited for kids 5 and under\, but all are welcome. \nWe’d love to have you join us! We’ll sing a song\, read a story\, and make sure you’re all set with reading materials for you and your kid(s). It’s a great time to meet other parents and have time for kids to play together inside or outside at the library.
URL:https://guilfordvt.gov/event/storytime-at-the-library/2027-01-26/
LOCATION:Guilford Free Library\, 4024 Guilford Center Rd\, Guilford\, VT
CATEGORIES:Recreation Commission
ORGANIZER;CN="Guilford Free Library":MAILTO:staff@guilfordfreelibraryvt.org
END:VEVENT
BEGIN:VEVENT
DTSTART;TZID=America/New_York:20270202T140000
DTEND;TZID=America/New_York:20270202T143000
DTSTAMP:20260421T055547
CREATED:20240930T173321Z
LAST-MODIFIED:20240930T173321Z
UID:10003337-1801576800-1801578600@guilfordvt.gov
SUMMARY:Storytime at the Library
DESCRIPTION:Join us for stories and songs at the library every Tuesday afternoon. Most suited for kids 5 and under\, but all are welcome. \nWe’d love to have you join us! We’ll sing a song\, read a story\, and make sure you’re all set with reading materials for you and your kid(s). It’s a great time to meet other parents and have time for kids to play together inside or outside at the library.
URL:https://guilfordvt.gov/event/storytime-at-the-library/2027-02-02/
LOCATION:Guilford Free Library\, 4024 Guilford Center Rd\, Guilford\, VT
CATEGORIES:Recreation Commission
ORGANIZER;CN="Guilford Free Library":MAILTO:staff@guilfordfreelibraryvt.org
END:VEVENT
BEGIN:VEVENT
DTSTART;TZID=America/New_York:20270209T140000
DTEND;TZID=America/New_York:20270209T143000
DTSTAMP:20260421T055547
CREATED:20240930T173321Z
LAST-MODIFIED:20240930T173321Z
UID:10003338-1802181600-1802183400@guilfordvt.gov
SUMMARY:Storytime at the Library
DESCRIPTION:Join us for stories and songs at the library every Tuesday afternoon. Most suited for kids 5 and under\, but all are welcome. \nWe’d love to have you join us! We’ll sing a song\, read a story\, and make sure you’re all set with reading materials for you and your kid(s). It’s a great time to meet other parents and have time for kids to play together inside or outside at the library.
URL:https://guilfordvt.gov/event/storytime-at-the-library/2027-02-09/
LOCATION:Guilford Free Library\, 4024 Guilford Center Rd\, Guilford\, VT
CATEGORIES:Recreation Commission
ORGANIZER;CN="Guilford Free Library":MAILTO:staff@guilfordfreelibraryvt.org
END:VEVENT
BEGIN:VEVENT
DTSTART;TZID=America/New_York:20270216T140000
DTEND;TZID=America/New_York:20270216T143000
DTSTAMP:20260421T055547
CREATED:20240930T173321Z
LAST-MODIFIED:20240930T173321Z
UID:10003339-1802786400-1802788200@guilfordvt.gov
SUMMARY:Storytime at the Library
DESCRIPTION:Join us for stories and songs at the library every Tuesday afternoon. Most suited for kids 5 and under\, but all are welcome. \nWe’d love to have you join us! We’ll sing a song\, read a story\, and make sure you’re all set with reading materials for you and your kid(s). It’s a great time to meet other parents and have time for kids to play together inside or outside at the library.
URL:https://guilfordvt.gov/event/storytime-at-the-library/2027-02-16/
LOCATION:Guilford Free Library\, 4024 Guilford Center Rd\, Guilford\, VT
CATEGORIES:Recreation Commission
ORGANIZER;CN="Guilford Free Library":MAILTO:staff@guilfordfreelibraryvt.org
END:VEVENT
BEGIN:VEVENT
DTSTART;TZID=America/New_York:20270223T140000
DTEND;TZID=America/New_York:20270223T143000
DTSTAMP:20260421T055547
CREATED:20240930T173321Z
LAST-MODIFIED:20240930T173321Z
UID:10003340-1803391200-1803393000@guilfordvt.gov
SUMMARY:Storytime at the Library
DESCRIPTION:Join us for stories and songs at the library every Tuesday afternoon. Most suited for kids 5 and under\, but all are welcome. \nWe’d love to have you join us! We’ll sing a song\, read a story\, and make sure you’re all set with reading materials for you and your kid(s). It’s a great time to meet other parents and have time for kids to play together inside or outside at the library.
URL:https://guilfordvt.gov/event/storytime-at-the-library/2027-02-23/
LOCATION:Guilford Free Library\, 4024 Guilford Center Rd\, Guilford\, VT
CATEGORIES:Recreation Commission
ORGANIZER;CN="Guilford Free Library":MAILTO:staff@guilfordfreelibraryvt.org
END:VEVENT
BEGIN:VEVENT
DTSTART;TZID=America/New_York:20270302T140000
DTEND;TZID=America/New_York:20270302T143000
DTSTAMP:20260421T055547
CREATED:20240930T173321Z
LAST-MODIFIED:20240930T173321Z
UID:10003341-1803996000-1803997800@guilfordvt.gov
SUMMARY:Storytime at the Library
DESCRIPTION:Join us for stories and songs at the library every Tuesday afternoon. Most suited for kids 5 and under\, but all are welcome. \nWe’d love to have you join us! We’ll sing a song\, read a story\, and make sure you’re all set with reading materials for you and your kid(s). It’s a great time to meet other parents and have time for kids to play together inside or outside at the library.
URL:https://guilfordvt.gov/event/storytime-at-the-library/2027-03-02/
LOCATION:Guilford Free Library\, 4024 Guilford Center Rd\, Guilford\, VT
CATEGORIES:Recreation Commission
ORGANIZER;CN="Guilford Free Library":MAILTO:staff@guilfordfreelibraryvt.org
END:VEVENT
BEGIN:VEVENT
DTSTART;TZID=America/New_York:20270309T140000
DTEND;TZID=America/New_York:20270309T143000
DTSTAMP:20260421T055547
CREATED:20240930T173321Z
LAST-MODIFIED:20240930T173321Z
UID:10003342-1804600800-1804602600@guilfordvt.gov
SUMMARY:Storytime at the Library
DESCRIPTION:Join us for stories and songs at the library every Tuesday afternoon. Most suited for kids 5 and under\, but all are welcome. \nWe’d love to have you join us! We’ll sing a song\, read a story\, and make sure you’re all set with reading materials for you and your kid(s). It’s a great time to meet other parents and have time for kids to play together inside or outside at the library.
URL:https://guilfordvt.gov/event/storytime-at-the-library/2027-03-09/
LOCATION:Guilford Free Library\, 4024 Guilford Center Rd\, Guilford\, VT
CATEGORIES:Recreation Commission
ORGANIZER;CN="Guilford Free Library":MAILTO:staff@guilfordfreelibraryvt.org
END:VEVENT
BEGIN:VEVENT
DTSTART;TZID=America/New_York:20270316T140000
DTEND;TZID=America/New_York:20270316T143000
DTSTAMP:20260421T055547
CREATED:20240930T173321Z
LAST-MODIFIED:20240930T173321Z
UID:10003343-1805205600-1805207400@guilfordvt.gov
SUMMARY:Storytime at the Library
DESCRIPTION:Join us for stories and songs at the library every Tuesday afternoon. Most suited for kids 5 and under\, but all are welcome. \nWe’d love to have you join us! We’ll sing a song\, read a story\, and make sure you’re all set with reading materials for you and your kid(s). It’s a great time to meet other parents and have time for kids to play together inside or outside at the library.
URL:https://guilfordvt.gov/event/storytime-at-the-library/2027-03-16/
LOCATION:Guilford Free Library\, 4024 Guilford Center Rd\, Guilford\, VT
CATEGORIES:Recreation Commission
ORGANIZER;CN="Guilford Free Library":MAILTO:staff@guilfordfreelibraryvt.org
END:VEVENT
END:VCALENDAR