BEGIN:VCALENDAR
VERSION:2.0
PRODID:-//      Town of Guilford, Vermont - ECPv6.15.20//NONSGML v1.0//EN
CALSCALE:GREGORIAN
METHOD:PUBLISH
X-WR-CALNAME:      Town of Guilford, Vermont
X-ORIGINAL-URL:https://guilfordvt.gov
X-WR-CALDESC:Events for       Town of Guilford, Vermont
REFRESH-INTERVAL;VALUE=DURATION:PT1H
X-Robots-Tag:noindex
X-PUBLISHED-TTL:PT1H
BEGIN:VTIMEZONE
TZID:America/New_York
BEGIN:DAYLIGHT
TZOFFSETFROM:-0500
TZOFFSETTO:-0400
TZNAME:EDT
DTSTART:20280312T070000
END:DAYLIGHT
BEGIN:STANDARD
TZOFFSETFROM:-0400
TZOFFSETTO:-0500
TZNAME:EST
DTSTART:20281105T060000
END:STANDARD
BEGIN:DAYLIGHT
TZOFFSETFROM:-0500
TZOFFSETTO:-0400
TZNAME:EDT
DTSTART:20290311T070000
END:DAYLIGHT
BEGIN:STANDARD
TZOFFSETFROM:-0400
TZOFFSETTO:-0500
TZNAME:EST
DTSTART:20291104T060000
END:STANDARD
BEGIN:DAYLIGHT
TZOFFSETFROM:-0500
TZOFFSETTO:-0400
TZNAME:EDT
DTSTART:20300310T070000
END:DAYLIGHT
BEGIN:STANDARD
TZOFFSETFROM:-0400
TZOFFSETTO:-0500
TZNAME:EST
DTSTART:20301103T060000
END:STANDARD
BEGIN:DAYLIGHT
TZOFFSETFROM:-0500
TZOFFSETTO:-0400
TZNAME:EDT
DTSTART:20310309T070000
END:DAYLIGHT
BEGIN:STANDARD
TZOFFSETFROM:-0400
TZOFFSETTO:-0500
TZNAME:EST
DTSTART:20311102T060000
END:STANDARD
END:VTIMEZONE
BEGIN:VEVENT
DTSTART;TZID=America/New_York:20290326T183000
DTEND;TZID=America/New_York:20290326T200000
DTSTAMP:20260422T064800
CREATED:20260304T180753Z
LAST-MODIFIED:20260304T181527Z
UID:10007108-1869244200-1869249600@guilfordvt.gov
SUMMARY:Selectboard Meeting
DESCRIPTION:Regularly Scheduled Selectboard Meetings occur at 6:30 pm on the second and fourth Monday of every month\, unless it falls on a holiday\, then the meeting will be the Wednesday immediately following at 6:30 pm.
URL:https://guilfordvt.gov/event/selectboard-meeting-36/2029-03-26/
LOCATION:Guilford Town Office\, 236 School Rd\, Guilford\, VT\, 05301\, United States
CATEGORIES:Selectboard
END:VEVENT
BEGIN:VEVENT
DTSTART;TZID=America/New_York:20290409T183000
DTEND;TZID=America/New_York:20290409T200000
DTSTAMP:20260422T064800
CREATED:20241107T174530Z
LAST-MODIFIED:20260304T181015Z
UID:10006981-1870453800-1870459200@guilfordvt.gov
SUMMARY:Selectboard Meeting
DESCRIPTION:Regularly Scheduled Selectboard Meetings occur at 6:30 pm on the second and fourth Monday of every month\, unless it falls on a holiday\, then the meeting will be the Wednesday immediately following at 6:30 pm.
URL:https://guilfordvt.gov/event/selectboard-meeting-35/2029-04-09/
LOCATION:Guilford Town Office\, 236 School Rd\, Guilford\, VT\, 05301\, United States
CATEGORIES:Selectboard
END:VEVENT
BEGIN:VEVENT
DTSTART;TZID=America/New_York:20290423T183000
DTEND;TZID=America/New_York:20290423T200000
DTSTAMP:20260422T064800
CREATED:20260304T180753Z
LAST-MODIFIED:20260304T181527Z
UID:10007109-1871663400-1871668800@guilfordvt.gov
SUMMARY:Selectboard Meeting
DESCRIPTION:Regularly Scheduled Selectboard Meetings occur at 6:30 pm on the second and fourth Monday of every month\, unless it falls on a holiday\, then the meeting will be the Wednesday immediately following at 6:30 pm.
URL:https://guilfordvt.gov/event/selectboard-meeting-36/2029-04-23/
LOCATION:Guilford Town Office\, 236 School Rd\, Guilford\, VT\, 05301\, United States
CATEGORIES:Selectboard
END:VEVENT
BEGIN:VEVENT
DTSTART;TZID=America/New_York:20290514T183000
DTEND;TZID=America/New_York:20290514T200000
DTSTAMP:20260422T064800
CREATED:20241107T174530Z
LAST-MODIFIED:20260304T181015Z
UID:10006982-1873477800-1873483200@guilfordvt.gov
SUMMARY:Selectboard Meeting
DESCRIPTION:Regularly Scheduled Selectboard Meetings occur at 6:30 pm on the second and fourth Monday of every month\, unless it falls on a holiday\, then the meeting will be the Wednesday immediately following at 6:30 pm.
URL:https://guilfordvt.gov/event/selectboard-meeting-35/2029-05-14/
LOCATION:Guilford Town Office\, 236 School Rd\, Guilford\, VT\, 05301\, United States
CATEGORIES:Selectboard
END:VEVENT
BEGIN:VEVENT
DTSTART;TZID=America/New_York:20290528T183000
DTEND;TZID=America/New_York:20290528T200000
DTSTAMP:20260422T064800
CREATED:20260304T180753Z
LAST-MODIFIED:20260304T181527Z
UID:10007110-1874687400-1874692800@guilfordvt.gov
SUMMARY:Selectboard Meeting
DESCRIPTION:Regularly Scheduled Selectboard Meetings occur at 6:30 pm on the second and fourth Monday of every month\, unless it falls on a holiday\, then the meeting will be the Wednesday immediately following at 6:30 pm.
URL:https://guilfordvt.gov/event/selectboard-meeting-36/2029-05-28/
LOCATION:Guilford Town Office\, 236 School Rd\, Guilford\, VT\, 05301\, United States
CATEGORIES:Selectboard
END:VEVENT
BEGIN:VEVENT
DTSTART;TZID=America/New_York:20290611T183000
DTEND;TZID=America/New_York:20290611T200000
DTSTAMP:20260422T064800
CREATED:20241107T174530Z
LAST-MODIFIED:20260304T181015Z
UID:10006983-1875897000-1875902400@guilfordvt.gov
SUMMARY:Selectboard Meeting
DESCRIPTION:Regularly Scheduled Selectboard Meetings occur at 6:30 pm on the second and fourth Monday of every month\, unless it falls on a holiday\, then the meeting will be the Wednesday immediately following at 6:30 pm.
URL:https://guilfordvt.gov/event/selectboard-meeting-35/2029-06-11/
LOCATION:Guilford Town Office\, 236 School Rd\, Guilford\, VT\, 05301\, United States
CATEGORIES:Selectboard
END:VEVENT
BEGIN:VEVENT
DTSTART;TZID=America/New_York:20290625T183000
DTEND;TZID=America/New_York:20290625T200000
DTSTAMP:20260422T064800
CREATED:20260304T180753Z
LAST-MODIFIED:20260304T181527Z
UID:10007111-1877106600-1877112000@guilfordvt.gov
SUMMARY:Selectboard Meeting
DESCRIPTION:Regularly Scheduled Selectboard Meetings occur at 6:30 pm on the second and fourth Monday of every month\, unless it falls on a holiday\, then the meeting will be the Wednesday immediately following at 6:30 pm.
URL:https://guilfordvt.gov/event/selectboard-meeting-36/2029-06-25/
LOCATION:Guilford Town Office\, 236 School Rd\, Guilford\, VT\, 05301\, United States
CATEGORIES:Selectboard
END:VEVENT
BEGIN:VEVENT
DTSTART;TZID=America/New_York:20290709T183000
DTEND;TZID=America/New_York:20290709T200000
DTSTAMP:20260422T064800
CREATED:20241107T174530Z
LAST-MODIFIED:20260304T181015Z
UID:10006984-1878316200-1878321600@guilfordvt.gov
SUMMARY:Selectboard Meeting
DESCRIPTION:Regularly Scheduled Selectboard Meetings occur at 6:30 pm on the second and fourth Monday of every month\, unless it falls on a holiday\, then the meeting will be the Wednesday immediately following at 6:30 pm.
URL:https://guilfordvt.gov/event/selectboard-meeting-35/2029-07-09/
LOCATION:Guilford Town Office\, 236 School Rd\, Guilford\, VT\, 05301\, United States
CATEGORIES:Selectboard
END:VEVENT
BEGIN:VEVENT
DTSTART;TZID=America/New_York:20290723T183000
DTEND;TZID=America/New_York:20290723T200000
DTSTAMP:20260422T064800
CREATED:20260304T180753Z
LAST-MODIFIED:20260304T181527Z
UID:10007112-1879525800-1879531200@guilfordvt.gov
SUMMARY:Selectboard Meeting
DESCRIPTION:Regularly Scheduled Selectboard Meetings occur at 6:30 pm on the second and fourth Monday of every month\, unless it falls on a holiday\, then the meeting will be the Wednesday immediately following at 6:30 pm.
URL:https://guilfordvt.gov/event/selectboard-meeting-36/2029-07-23/
LOCATION:Guilford Town Office\, 236 School Rd\, Guilford\, VT\, 05301\, United States
CATEGORIES:Selectboard
END:VEVENT
BEGIN:VEVENT
DTSTART;TZID=America/New_York:20290813T183000
DTEND;TZID=America/New_York:20290813T200000
DTSTAMP:20260422T064800
CREATED:20241107T174530Z
LAST-MODIFIED:20260304T181015Z
UID:10006985-1881340200-1881345600@guilfordvt.gov
SUMMARY:Selectboard Meeting
DESCRIPTION:Regularly Scheduled Selectboard Meetings occur at 6:30 pm on the second and fourth Monday of every month\, unless it falls on a holiday\, then the meeting will be the Wednesday immediately following at 6:30 pm.
URL:https://guilfordvt.gov/event/selectboard-meeting-35/2029-08-13/
LOCATION:Guilford Town Office\, 236 School Rd\, Guilford\, VT\, 05301\, United States
CATEGORIES:Selectboard
END:VEVENT
BEGIN:VEVENT
DTSTART;TZID=America/New_York:20290827T183000
DTEND;TZID=America/New_York:20290827T200000
DTSTAMP:20260422T064800
CREATED:20260304T180753Z
LAST-MODIFIED:20260304T181527Z
UID:10007113-1882549800-1882555200@guilfordvt.gov
SUMMARY:Selectboard Meeting
DESCRIPTION:Regularly Scheduled Selectboard Meetings occur at 6:30 pm on the second and fourth Monday of every month\, unless it falls on a holiday\, then the meeting will be the Wednesday immediately following at 6:30 pm.
URL:https://guilfordvt.gov/event/selectboard-meeting-36/2029-08-27/
LOCATION:Guilford Town Office\, 236 School Rd\, Guilford\, VT\, 05301\, United States
CATEGORIES:Selectboard
END:VEVENT
BEGIN:VEVENT
DTSTART;TZID=America/New_York:20290910T183000
DTEND;TZID=America/New_York:20290910T200000
DTSTAMP:20260422T064800
CREATED:20241107T174530Z
LAST-MODIFIED:20260304T181015Z
UID:10006986-1883759400-1883764800@guilfordvt.gov
SUMMARY:Selectboard Meeting
DESCRIPTION:Regularly Scheduled Selectboard Meetings occur at 6:30 pm on the second and fourth Monday of every month\, unless it falls on a holiday\, then the meeting will be the Wednesday immediately following at 6:30 pm.
URL:https://guilfordvt.gov/event/selectboard-meeting-35/2029-09-10/
LOCATION:Guilford Town Office\, 236 School Rd\, Guilford\, VT\, 05301\, United States
CATEGORIES:Selectboard
END:VEVENT
BEGIN:VEVENT
DTSTART;TZID=America/New_York:20290924T183000
DTEND;TZID=America/New_York:20290924T200000
DTSTAMP:20260422T064800
CREATED:20260304T180753Z
LAST-MODIFIED:20260304T181527Z
UID:10007114-1884969000-1884974400@guilfordvt.gov
SUMMARY:Selectboard Meeting
DESCRIPTION:Regularly Scheduled Selectboard Meetings occur at 6:30 pm on the second and fourth Monday of every month\, unless it falls on a holiday\, then the meeting will be the Wednesday immediately following at 6:30 pm.
URL:https://guilfordvt.gov/event/selectboard-meeting-36/2029-09-24/
LOCATION:Guilford Town Office\, 236 School Rd\, Guilford\, VT\, 05301\, United States
CATEGORIES:Selectboard
END:VEVENT
BEGIN:VEVENT
DTSTART;TZID=America/New_York:20291008T183000
DTEND;TZID=America/New_York:20291008T200000
DTSTAMP:20260422T064800
CREATED:20241107T174530Z
LAST-MODIFIED:20260304T181015Z
UID:10006987-1886178600-1886184000@guilfordvt.gov
SUMMARY:Selectboard Meeting
DESCRIPTION:Regularly Scheduled Selectboard Meetings occur at 6:30 pm on the second and fourth Monday of every month\, unless it falls on a holiday\, then the meeting will be the Wednesday immediately following at 6:30 pm.
URL:https://guilfordvt.gov/event/selectboard-meeting-35/2029-10-08/
LOCATION:Guilford Town Office\, 236 School Rd\, Guilford\, VT\, 05301\, United States
CATEGORIES:Selectboard
END:VEVENT
BEGIN:VEVENT
DTSTART;TZID=America/New_York:20291022T183000
DTEND;TZID=America/New_York:20291022T200000
DTSTAMP:20260422T064800
CREATED:20260304T180753Z
LAST-MODIFIED:20260304T181527Z
UID:10007115-1887388200-1887393600@guilfordvt.gov
SUMMARY:Selectboard Meeting
DESCRIPTION:Regularly Scheduled Selectboard Meetings occur at 6:30 pm on the second and fourth Monday of every month\, unless it falls on a holiday\, then the meeting will be the Wednesday immediately following at 6:30 pm.
URL:https://guilfordvt.gov/event/selectboard-meeting-36/2029-10-22/
LOCATION:Guilford Town Office\, 236 School Rd\, Guilford\, VT\, 05301\, United States
CATEGORIES:Selectboard
END:VEVENT
BEGIN:VEVENT
DTSTART;TZID=America/New_York:20291112T183000
DTEND;TZID=America/New_York:20291112T200000
DTSTAMP:20260422T064800
CREATED:20241107T174530Z
LAST-MODIFIED:20260304T181015Z
UID:10006988-1889202600-1889208000@guilfordvt.gov
SUMMARY:Selectboard Meeting
DESCRIPTION:Regularly Scheduled Selectboard Meetings occur at 6:30 pm on the second and fourth Monday of every month\, unless it falls on a holiday\, then the meeting will be the Wednesday immediately following at 6:30 pm.
URL:https://guilfordvt.gov/event/selectboard-meeting-35/2029-11-12/
LOCATION:Guilford Town Office\, 236 School Rd\, Guilford\, VT\, 05301\, United States
CATEGORIES:Selectboard
END:VEVENT
BEGIN:VEVENT
DTSTART;TZID=America/New_York:20291126T183000
DTEND;TZID=America/New_York:20291126T200000
DTSTAMP:20260422T064800
CREATED:20260304T180753Z
LAST-MODIFIED:20260304T181527Z
UID:10007116-1890412200-1890417600@guilfordvt.gov
SUMMARY:Selectboard Meeting
DESCRIPTION:Regularly Scheduled Selectboard Meetings occur at 6:30 pm on the second and fourth Monday of every month\, unless it falls on a holiday\, then the meeting will be the Wednesday immediately following at 6:30 pm.
URL:https://guilfordvt.gov/event/selectboard-meeting-36/2029-11-26/
LOCATION:Guilford Town Office\, 236 School Rd\, Guilford\, VT\, 05301\, United States
CATEGORIES:Selectboard
END:VEVENT
BEGIN:VEVENT
DTSTART;TZID=America/New_York:20291210T183000
DTEND;TZID=America/New_York:20291210T200000
DTSTAMP:20260422T064800
CREATED:20241107T174530Z
LAST-MODIFIED:20260304T181015Z
UID:10006989-1891621800-1891627200@guilfordvt.gov
SUMMARY:Selectboard Meeting
DESCRIPTION:Regularly Scheduled Selectboard Meetings occur at 6:30 pm on the second and fourth Monday of every month\, unless it falls on a holiday\, then the meeting will be the Wednesday immediately following at 6:30 pm.
URL:https://guilfordvt.gov/event/selectboard-meeting-35/2029-12-10/
LOCATION:Guilford Town Office\, 236 School Rd\, Guilford\, VT\, 05301\, United States
CATEGORIES:Selectboard
END:VEVENT
BEGIN:VEVENT
DTSTART;TZID=America/New_York:20291224T183000
DTEND;TZID=America/New_York:20291224T200000
DTSTAMP:20260422T064800
CREATED:20260304T180753Z
LAST-MODIFIED:20260304T181527Z
UID:10007117-1892831400-1892836800@guilfordvt.gov
SUMMARY:Selectboard Meeting
DESCRIPTION:Regularly Scheduled Selectboard Meetings occur at 6:30 pm on the second and fourth Monday of every month\, unless it falls on a holiday\, then the meeting will be the Wednesday immediately following at 6:30 pm.
URL:https://guilfordvt.gov/event/selectboard-meeting-36/2029-12-24/
LOCATION:Guilford Town Office\, 236 School Rd\, Guilford\, VT\, 05301\, United States
CATEGORIES:Selectboard
END:VEVENT
BEGIN:VEVENT
DTSTART;TZID=America/New_York:20300114T183000
DTEND;TZID=America/New_York:20300114T200000
DTSTAMP:20260422T064800
CREATED:20241107T174530Z
LAST-MODIFIED:20260304T181015Z
UID:10006990-1894645800-1894651200@guilfordvt.gov
SUMMARY:Selectboard Meeting
DESCRIPTION:Regularly Scheduled Selectboard Meetings occur at 6:30 pm on the second and fourth Monday of every month\, unless it falls on a holiday\, then the meeting will be the Wednesday immediately following at 6:30 pm.
URL:https://guilfordvt.gov/event/selectboard-meeting-35/2030-01-14/
LOCATION:Guilford Town Office\, 236 School Rd\, Guilford\, VT\, 05301\, United States
CATEGORIES:Selectboard
END:VEVENT
BEGIN:VEVENT
DTSTART;TZID=America/New_York:20300128T183000
DTEND;TZID=America/New_York:20300128T200000
DTSTAMP:20260422T064800
CREATED:20260304T180753Z
LAST-MODIFIED:20260304T181527Z
UID:10007118-1895855400-1895860800@guilfordvt.gov
SUMMARY:Selectboard Meeting
DESCRIPTION:Regularly Scheduled Selectboard Meetings occur at 6:30 pm on the second and fourth Monday of every month\, unless it falls on a holiday\, then the meeting will be the Wednesday immediately following at 6:30 pm.
URL:https://guilfordvt.gov/event/selectboard-meeting-36/2030-01-28/
LOCATION:Guilford Town Office\, 236 School Rd\, Guilford\, VT\, 05301\, United States
CATEGORIES:Selectboard
END:VEVENT
BEGIN:VEVENT
DTSTART;TZID=America/New_York:20300211T183000
DTEND;TZID=America/New_York:20300211T200000
DTSTAMP:20260422T064800
CREATED:20241107T174530Z
LAST-MODIFIED:20260304T181015Z
UID:10006991-1897065000-1897070400@guilfordvt.gov
SUMMARY:Selectboard Meeting
DESCRIPTION:Regularly Scheduled Selectboard Meetings occur at 6:30 pm on the second and fourth Monday of every month\, unless it falls on a holiday\, then the meeting will be the Wednesday immediately following at 6:30 pm.
URL:https://guilfordvt.gov/event/selectboard-meeting-35/2030-02-11/
LOCATION:Guilford Town Office\, 236 School Rd\, Guilford\, VT\, 05301\, United States
CATEGORIES:Selectboard
END:VEVENT
BEGIN:VEVENT
DTSTART;TZID=America/New_York:20300225T183000
DTEND;TZID=America/New_York:20300225T200000
DTSTAMP:20260422T064800
CREATED:20260304T180753Z
LAST-MODIFIED:20260304T181527Z
UID:10007119-1898274600-1898280000@guilfordvt.gov
SUMMARY:Selectboard Meeting
DESCRIPTION:Regularly Scheduled Selectboard Meetings occur at 6:30 pm on the second and fourth Monday of every month\, unless it falls on a holiday\, then the meeting will be the Wednesday immediately following at 6:30 pm.
URL:https://guilfordvt.gov/event/selectboard-meeting-36/2030-02-25/
LOCATION:Guilford Town Office\, 236 School Rd\, Guilford\, VT\, 05301\, United States
CATEGORIES:Selectboard
END:VEVENT
BEGIN:VEVENT
DTSTART;TZID=America/New_York:20300311T183000
DTEND;TZID=America/New_York:20300311T200000
DTSTAMP:20260422T064800
CREATED:20241107T174530Z
LAST-MODIFIED:20260304T181015Z
UID:10006992-1899484200-1899489600@guilfordvt.gov
SUMMARY:Selectboard Meeting
DESCRIPTION:Regularly Scheduled Selectboard Meetings occur at 6:30 pm on the second and fourth Monday of every month\, unless it falls on a holiday\, then the meeting will be the Wednesday immediately following at 6:30 pm.
URL:https://guilfordvt.gov/event/selectboard-meeting-35/2030-03-11/
LOCATION:Guilford Town Office\, 236 School Rd\, Guilford\, VT\, 05301\, United States
CATEGORIES:Selectboard
END:VEVENT
BEGIN:VEVENT
DTSTART;TZID=America/New_York:20300325T183000
DTEND;TZID=America/New_York:20300325T200000
DTSTAMP:20260422T064800
CREATED:20260304T180753Z
LAST-MODIFIED:20260304T181527Z
UID:10007120-1900693800-1900699200@guilfordvt.gov
SUMMARY:Selectboard Meeting
DESCRIPTION:Regularly Scheduled Selectboard Meetings occur at 6:30 pm on the second and fourth Monday of every month\, unless it falls on a holiday\, then the meeting will be the Wednesday immediately following at 6:30 pm.
URL:https://guilfordvt.gov/event/selectboard-meeting-36/2030-03-25/
LOCATION:Guilford Town Office\, 236 School Rd\, Guilford\, VT\, 05301\, United States
CATEGORIES:Selectboard
END:VEVENT
BEGIN:VEVENT
DTSTART;TZID=America/New_York:20300408T183000
DTEND;TZID=America/New_York:20300408T200000
DTSTAMP:20260422T064800
CREATED:20241107T174530Z
LAST-MODIFIED:20260304T181015Z
UID:10006993-1901903400-1901908800@guilfordvt.gov
SUMMARY:Selectboard Meeting
DESCRIPTION:Regularly Scheduled Selectboard Meetings occur at 6:30 pm on the second and fourth Monday of every month\, unless it falls on a holiday\, then the meeting will be the Wednesday immediately following at 6:30 pm.
URL:https://guilfordvt.gov/event/selectboard-meeting-35/2030-04-08/
LOCATION:Guilford Town Office\, 236 School Rd\, Guilford\, VT\, 05301\, United States
CATEGORIES:Selectboard
END:VEVENT
BEGIN:VEVENT
DTSTART;TZID=America/New_York:20300422T183000
DTEND;TZID=America/New_York:20300422T200000
DTSTAMP:20260422T064800
CREATED:20260304T180753Z
LAST-MODIFIED:20260304T181527Z
UID:10007121-1903113000-1903118400@guilfordvt.gov
SUMMARY:Selectboard Meeting
DESCRIPTION:Regularly Scheduled Selectboard Meetings occur at 6:30 pm on the second and fourth Monday of every month\, unless it falls on a holiday\, then the meeting will be the Wednesday immediately following at 6:30 pm.
URL:https://guilfordvt.gov/event/selectboard-meeting-36/2030-04-22/
LOCATION:Guilford Town Office\, 236 School Rd\, Guilford\, VT\, 05301\, United States
CATEGORIES:Selectboard
END:VEVENT
BEGIN:VEVENT
DTSTART;TZID=America/New_York:20300513T183000
DTEND;TZID=America/New_York:20300513T200000
DTSTAMP:20260422T064800
CREATED:20241107T174530Z
LAST-MODIFIED:20260304T181015Z
UID:10006994-1904927400-1904932800@guilfordvt.gov
SUMMARY:Selectboard Meeting
DESCRIPTION:Regularly Scheduled Selectboard Meetings occur at 6:30 pm on the second and fourth Monday of every month\, unless it falls on a holiday\, then the meeting will be the Wednesday immediately following at 6:30 pm.
URL:https://guilfordvt.gov/event/selectboard-meeting-35/2030-05-13/
LOCATION:Guilford Town Office\, 236 School Rd\, Guilford\, VT\, 05301\, United States
CATEGORIES:Selectboard
END:VEVENT
BEGIN:VEVENT
DTSTART;TZID=America/New_York:20300527T183000
DTEND;TZID=America/New_York:20300527T200000
DTSTAMP:20260422T064800
CREATED:20260304T180753Z
LAST-MODIFIED:20260304T181527Z
UID:10007122-1906137000-1906142400@guilfordvt.gov
SUMMARY:Selectboard Meeting
DESCRIPTION:Regularly Scheduled Selectboard Meetings occur at 6:30 pm on the second and fourth Monday of every month\, unless it falls on a holiday\, then the meeting will be the Wednesday immediately following at 6:30 pm.
URL:https://guilfordvt.gov/event/selectboard-meeting-36/2030-05-27/
LOCATION:Guilford Town Office\, 236 School Rd\, Guilford\, VT\, 05301\, United States
CATEGORIES:Selectboard
END:VEVENT
BEGIN:VEVENT
DTSTART;TZID=America/New_York:20300610T183000
DTEND;TZID=America/New_York:20300610T200000
DTSTAMP:20260422T064800
CREATED:20241107T174530Z
LAST-MODIFIED:20260304T181015Z
UID:10006995-1907346600-1907352000@guilfordvt.gov
SUMMARY:Selectboard Meeting
DESCRIPTION:Regularly Scheduled Selectboard Meetings occur at 6:30 pm on the second and fourth Monday of every month\, unless it falls on a holiday\, then the meeting will be the Wednesday immediately following at 6:30 pm.
URL:https://guilfordvt.gov/event/selectboard-meeting-35/2030-06-10/
LOCATION:Guilford Town Office\, 236 School Rd\, Guilford\, VT\, 05301\, United States
CATEGORIES:Selectboard
END:VEVENT
END:VCALENDAR