BEGIN:VCALENDAR
VERSION:2.0
PRODID:-//      Town of Guilford, Vermont - ECPv6.15.20//NONSGML v1.0//EN
CALSCALE:GREGORIAN
METHOD:PUBLISH
X-WR-CALNAME:      Town of Guilford, Vermont
X-ORIGINAL-URL:https://guilfordvt.gov
X-WR-CALDESC:Events for       Town of Guilford, Vermont
REFRESH-INTERVAL;VALUE=DURATION:PT1H
X-Robots-Tag:noindex
X-PUBLISHED-TTL:PT1H
BEGIN:VTIMEZONE
TZID:America/New_York
BEGIN:DAYLIGHT
TZOFFSETFROM:-0500
TZOFFSETTO:-0400
TZNAME:EDT
DTSTART:20260308T070000
END:DAYLIGHT
BEGIN:STANDARD
TZOFFSETFROM:-0400
TZOFFSETTO:-0500
TZNAME:EST
DTSTART:20261101T060000
END:STANDARD
BEGIN:DAYLIGHT
TZOFFSETFROM:-0500
TZOFFSETTO:-0400
TZNAME:EDT
DTSTART:20270314T070000
END:DAYLIGHT
BEGIN:STANDARD
TZOFFSETFROM:-0400
TZOFFSETTO:-0500
TZNAME:EST
DTSTART:20271107T060000
END:STANDARD
BEGIN:DAYLIGHT
TZOFFSETFROM:-0500
TZOFFSETTO:-0400
TZNAME:EDT
DTSTART:20280312T070000
END:DAYLIGHT
BEGIN:STANDARD
TZOFFSETFROM:-0400
TZOFFSETTO:-0500
TZNAME:EST
DTSTART:20281105T060000
END:STANDARD
BEGIN:DAYLIGHT
TZOFFSETFROM:-0500
TZOFFSETTO:-0400
TZNAME:EDT
DTSTART:20290311T070000
END:DAYLIGHT
BEGIN:STANDARD
TZOFFSETFROM:-0400
TZOFFSETTO:-0500
TZNAME:EST
DTSTART:20291104T060000
END:STANDARD
BEGIN:DAYLIGHT
TZOFFSETFROM:-0500
TZOFFSETTO:-0400
TZNAME:EDT
DTSTART:20300310T070000
END:DAYLIGHT
BEGIN:STANDARD
TZOFFSETFROM:-0400
TZOFFSETTO:-0500
TZNAME:EST
DTSTART:20301103T060000
END:STANDARD
END:VTIMEZONE
BEGIN:VEVENT
DTSTART;TZID=America/New_York:20271108T183000
DTEND;TZID=America/New_York:20271108T200000
DTSTAMP:20260419T094733
CREATED:20241107T174530Z
LAST-MODIFIED:20260304T181015Z
UID:10006964-1825698600-1825704000@guilfordvt.gov
SUMMARY:Selectboard Meeting
DESCRIPTION:Regularly Scheduled Selectboard Meetings occur at 6:30 pm on the second and fourth Monday of every month\, unless it falls on a holiday\, then the meeting will be the Wednesday immediately following at 6:30 pm.
URL:https://guilfordvt.gov/event/selectboard-meeting-35/2027-11-08/
LOCATION:Guilford Town Office\, 236 School Rd\, Guilford\, VT\, 05301\, United States
CATEGORIES:Selectboard
END:VEVENT
BEGIN:VEVENT
DTSTART;TZID=America/New_York:20271122T183000
DTEND;TZID=America/New_York:20271122T200000
DTSTAMP:20260419T094733
CREATED:20260304T180753Z
LAST-MODIFIED:20260304T181527Z
UID:10007092-1826908200-1826913600@guilfordvt.gov
SUMMARY:Selectboard Meeting
DESCRIPTION:Regularly Scheduled Selectboard Meetings occur at 6:30 pm on the second and fourth Monday of every month\, unless it falls on a holiday\, then the meeting will be the Wednesday immediately following at 6:30 pm.
URL:https://guilfordvt.gov/event/selectboard-meeting-36/2027-11-22/
LOCATION:Guilford Town Office\, 236 School Rd\, Guilford\, VT\, 05301\, United States
CATEGORIES:Selectboard
END:VEVENT
BEGIN:VEVENT
DTSTART;TZID=America/New_York:20271213T183000
DTEND;TZID=America/New_York:20271213T200000
DTSTAMP:20260419T094733
CREATED:20241107T174530Z
LAST-MODIFIED:20260304T181015Z
UID:10006965-1828722600-1828728000@guilfordvt.gov
SUMMARY:Selectboard Meeting
DESCRIPTION:Regularly Scheduled Selectboard Meetings occur at 6:30 pm on the second and fourth Monday of every month\, unless it falls on a holiday\, then the meeting will be the Wednesday immediately following at 6:30 pm.
URL:https://guilfordvt.gov/event/selectboard-meeting-35/2027-12-13/
LOCATION:Guilford Town Office\, 236 School Rd\, Guilford\, VT\, 05301\, United States
CATEGORIES:Selectboard
END:VEVENT
BEGIN:VEVENT
DTSTART;TZID=America/New_York:20271227T183000
DTEND;TZID=America/New_York:20271227T200000
DTSTAMP:20260419T094733
CREATED:20260304T180753Z
LAST-MODIFIED:20260304T181527Z
UID:10007093-1829932200-1829937600@guilfordvt.gov
SUMMARY:Selectboard Meeting
DESCRIPTION:Regularly Scheduled Selectboard Meetings occur at 6:30 pm on the second and fourth Monday of every month\, unless it falls on a holiday\, then the meeting will be the Wednesday immediately following at 6:30 pm.
URL:https://guilfordvt.gov/event/selectboard-meeting-36/2027-12-27/
LOCATION:Guilford Town Office\, 236 School Rd\, Guilford\, VT\, 05301\, United States
CATEGORIES:Selectboard
END:VEVENT
BEGIN:VEVENT
DTSTART;TZID=America/New_York:20280110T183000
DTEND;TZID=America/New_York:20280110T200000
DTSTAMP:20260419T094733
CREATED:20241107T174530Z
LAST-MODIFIED:20260304T181015Z
UID:10006966-1831141800-1831147200@guilfordvt.gov
SUMMARY:Selectboard Meeting
DESCRIPTION:Regularly Scheduled Selectboard Meetings occur at 6:30 pm on the second and fourth Monday of every month\, unless it falls on a holiday\, then the meeting will be the Wednesday immediately following at 6:30 pm.
URL:https://guilfordvt.gov/event/selectboard-meeting-35/2028-01-10/
LOCATION:Guilford Town Office\, 236 School Rd\, Guilford\, VT\, 05301\, United States
CATEGORIES:Selectboard
END:VEVENT
BEGIN:VEVENT
DTSTART;TZID=America/New_York:20280124T183000
DTEND;TZID=America/New_York:20280124T200000
DTSTAMP:20260419T094733
CREATED:20260304T180753Z
LAST-MODIFIED:20260304T181527Z
UID:10007094-1832351400-1832356800@guilfordvt.gov
SUMMARY:Selectboard Meeting
DESCRIPTION:Regularly Scheduled Selectboard Meetings occur at 6:30 pm on the second and fourth Monday of every month\, unless it falls on a holiday\, then the meeting will be the Wednesday immediately following at 6:30 pm.
URL:https://guilfordvt.gov/event/selectboard-meeting-36/2028-01-24/
LOCATION:Guilford Town Office\, 236 School Rd\, Guilford\, VT\, 05301\, United States
CATEGORIES:Selectboard
END:VEVENT
BEGIN:VEVENT
DTSTART;TZID=America/New_York:20280214T183000
DTEND;TZID=America/New_York:20280214T200000
DTSTAMP:20260419T094733
CREATED:20241107T174530Z
LAST-MODIFIED:20260304T181015Z
UID:10006967-1834165800-1834171200@guilfordvt.gov
SUMMARY:Selectboard Meeting
DESCRIPTION:Regularly Scheduled Selectboard Meetings occur at 6:30 pm on the second and fourth Monday of every month\, unless it falls on a holiday\, then the meeting will be the Wednesday immediately following at 6:30 pm.
URL:https://guilfordvt.gov/event/selectboard-meeting-35/2028-02-14/
LOCATION:Guilford Town Office\, 236 School Rd\, Guilford\, VT\, 05301\, United States
CATEGORIES:Selectboard
END:VEVENT
BEGIN:VEVENT
DTSTART;TZID=America/New_York:20280228T183000
DTEND;TZID=America/New_York:20280228T200000
DTSTAMP:20260419T094733
CREATED:20260304T180753Z
LAST-MODIFIED:20260304T181527Z
UID:10007095-1835375400-1835380800@guilfordvt.gov
SUMMARY:Selectboard Meeting
DESCRIPTION:Regularly Scheduled Selectboard Meetings occur at 6:30 pm on the second and fourth Monday of every month\, unless it falls on a holiday\, then the meeting will be the Wednesday immediately following at 6:30 pm.
URL:https://guilfordvt.gov/event/selectboard-meeting-36/2028-02-28/
LOCATION:Guilford Town Office\, 236 School Rd\, Guilford\, VT\, 05301\, United States
CATEGORIES:Selectboard
END:VEVENT
BEGIN:VEVENT
DTSTART;TZID=America/New_York:20280313T183000
DTEND;TZID=America/New_York:20280313T200000
DTSTAMP:20260419T094733
CREATED:20241107T174530Z
LAST-MODIFIED:20260304T181015Z
UID:10006968-1836585000-1836590400@guilfordvt.gov
SUMMARY:Selectboard Meeting
DESCRIPTION:Regularly Scheduled Selectboard Meetings occur at 6:30 pm on the second and fourth Monday of every month\, unless it falls on a holiday\, then the meeting will be the Wednesday immediately following at 6:30 pm.
URL:https://guilfordvt.gov/event/selectboard-meeting-35/2028-03-13/
LOCATION:Guilford Town Office\, 236 School Rd\, Guilford\, VT\, 05301\, United States
CATEGORIES:Selectboard
END:VEVENT
BEGIN:VEVENT
DTSTART;TZID=America/New_York:20280327T183000
DTEND;TZID=America/New_York:20280327T200000
DTSTAMP:20260419T094733
CREATED:20260304T180753Z
LAST-MODIFIED:20260304T181527Z
UID:10007096-1837794600-1837800000@guilfordvt.gov
SUMMARY:Selectboard Meeting
DESCRIPTION:Regularly Scheduled Selectboard Meetings occur at 6:30 pm on the second and fourth Monday of every month\, unless it falls on a holiday\, then the meeting will be the Wednesday immediately following at 6:30 pm.
URL:https://guilfordvt.gov/event/selectboard-meeting-36/2028-03-27/
LOCATION:Guilford Town Office\, 236 School Rd\, Guilford\, VT\, 05301\, United States
CATEGORIES:Selectboard
END:VEVENT
BEGIN:VEVENT
DTSTART;TZID=America/New_York:20280410T183000
DTEND;TZID=America/New_York:20280410T200000
DTSTAMP:20260419T094733
CREATED:20241107T174530Z
LAST-MODIFIED:20260304T181015Z
UID:10006969-1839004200-1839009600@guilfordvt.gov
SUMMARY:Selectboard Meeting
DESCRIPTION:Regularly Scheduled Selectboard Meetings occur at 6:30 pm on the second and fourth Monday of every month\, unless it falls on a holiday\, then the meeting will be the Wednesday immediately following at 6:30 pm.
URL:https://guilfordvt.gov/event/selectboard-meeting-35/2028-04-10/
LOCATION:Guilford Town Office\, 236 School Rd\, Guilford\, VT\, 05301\, United States
CATEGORIES:Selectboard
END:VEVENT
BEGIN:VEVENT
DTSTART;TZID=America/New_York:20280424T183000
DTEND;TZID=America/New_York:20280424T200000
DTSTAMP:20260419T094733
CREATED:20260304T180753Z
LAST-MODIFIED:20260304T181527Z
UID:10007097-1840213800-1840219200@guilfordvt.gov
SUMMARY:Selectboard Meeting
DESCRIPTION:Regularly Scheduled Selectboard Meetings occur at 6:30 pm on the second and fourth Monday of every month\, unless it falls on a holiday\, then the meeting will be the Wednesday immediately following at 6:30 pm.
URL:https://guilfordvt.gov/event/selectboard-meeting-36/2028-04-24/
LOCATION:Guilford Town Office\, 236 School Rd\, Guilford\, VT\, 05301\, United States
CATEGORIES:Selectboard
END:VEVENT
BEGIN:VEVENT
DTSTART;TZID=America/New_York:20280508T183000
DTEND;TZID=America/New_York:20280508T200000
DTSTAMP:20260419T094733
CREATED:20241107T174530Z
LAST-MODIFIED:20260304T181015Z
UID:10006970-1841423400-1841428800@guilfordvt.gov
SUMMARY:Selectboard Meeting
DESCRIPTION:Regularly Scheduled Selectboard Meetings occur at 6:30 pm on the second and fourth Monday of every month\, unless it falls on a holiday\, then the meeting will be the Wednesday immediately following at 6:30 pm.
URL:https://guilfordvt.gov/event/selectboard-meeting-35/2028-05-08/
LOCATION:Guilford Town Office\, 236 School Rd\, Guilford\, VT\, 05301\, United States
CATEGORIES:Selectboard
END:VEVENT
BEGIN:VEVENT
DTSTART;TZID=America/New_York:20280522T183000
DTEND;TZID=America/New_York:20280522T200000
DTSTAMP:20260419T094733
CREATED:20260304T180753Z
LAST-MODIFIED:20260304T181527Z
UID:10007098-1842633000-1842638400@guilfordvt.gov
SUMMARY:Selectboard Meeting
DESCRIPTION:Regularly Scheduled Selectboard Meetings occur at 6:30 pm on the second and fourth Monday of every month\, unless it falls on a holiday\, then the meeting will be the Wednesday immediately following at 6:30 pm.
URL:https://guilfordvt.gov/event/selectboard-meeting-36/2028-05-22/
LOCATION:Guilford Town Office\, 236 School Rd\, Guilford\, VT\, 05301\, United States
CATEGORIES:Selectboard
END:VEVENT
BEGIN:VEVENT
DTSTART;TZID=America/New_York:20280612T183000
DTEND;TZID=America/New_York:20280612T200000
DTSTAMP:20260419T094733
CREATED:20241107T174530Z
LAST-MODIFIED:20260304T181015Z
UID:10006971-1844447400-1844452800@guilfordvt.gov
SUMMARY:Selectboard Meeting
DESCRIPTION:Regularly Scheduled Selectboard Meetings occur at 6:30 pm on the second and fourth Monday of every month\, unless it falls on a holiday\, then the meeting will be the Wednesday immediately following at 6:30 pm.
URL:https://guilfordvt.gov/event/selectboard-meeting-35/2028-06-12/
LOCATION:Guilford Town Office\, 236 School Rd\, Guilford\, VT\, 05301\, United States
CATEGORIES:Selectboard
END:VEVENT
BEGIN:VEVENT
DTSTART;TZID=America/New_York:20280626T183000
DTEND;TZID=America/New_York:20280626T200000
DTSTAMP:20260419T094733
CREATED:20260304T180753Z
LAST-MODIFIED:20260304T181527Z
UID:10007099-1845657000-1845662400@guilfordvt.gov
SUMMARY:Selectboard Meeting
DESCRIPTION:Regularly Scheduled Selectboard Meetings occur at 6:30 pm on the second and fourth Monday of every month\, unless it falls on a holiday\, then the meeting will be the Wednesday immediately following at 6:30 pm.
URL:https://guilfordvt.gov/event/selectboard-meeting-36/2028-06-26/
LOCATION:Guilford Town Office\, 236 School Rd\, Guilford\, VT\, 05301\, United States
CATEGORIES:Selectboard
END:VEVENT
BEGIN:VEVENT
DTSTART;TZID=America/New_York:20280710T183000
DTEND;TZID=America/New_York:20280710T200000
DTSTAMP:20260419T094733
CREATED:20241107T174530Z
LAST-MODIFIED:20260304T181015Z
UID:10006972-1846866600-1846872000@guilfordvt.gov
SUMMARY:Selectboard Meeting
DESCRIPTION:Regularly Scheduled Selectboard Meetings occur at 6:30 pm on the second and fourth Monday of every month\, unless it falls on a holiday\, then the meeting will be the Wednesday immediately following at 6:30 pm.
URL:https://guilfordvt.gov/event/selectboard-meeting-35/2028-07-10/
LOCATION:Guilford Town Office\, 236 School Rd\, Guilford\, VT\, 05301\, United States
CATEGORIES:Selectboard
END:VEVENT
BEGIN:VEVENT
DTSTART;TZID=America/New_York:20280724T183000
DTEND;TZID=America/New_York:20280724T200000
DTSTAMP:20260419T094733
CREATED:20260304T180753Z
LAST-MODIFIED:20260304T181527Z
UID:10007100-1848076200-1848081600@guilfordvt.gov
SUMMARY:Selectboard Meeting
DESCRIPTION:Regularly Scheduled Selectboard Meetings occur at 6:30 pm on the second and fourth Monday of every month\, unless it falls on a holiday\, then the meeting will be the Wednesday immediately following at 6:30 pm.
URL:https://guilfordvt.gov/event/selectboard-meeting-36/2028-07-24/
LOCATION:Guilford Town Office\, 236 School Rd\, Guilford\, VT\, 05301\, United States
CATEGORIES:Selectboard
END:VEVENT
BEGIN:VEVENT
DTSTART;TZID=America/New_York:20280814T183000
DTEND;TZID=America/New_York:20280814T200000
DTSTAMP:20260419T094733
CREATED:20241107T174530Z
LAST-MODIFIED:20260304T181015Z
UID:10006973-1849890600-1849896000@guilfordvt.gov
SUMMARY:Selectboard Meeting
DESCRIPTION:Regularly Scheduled Selectboard Meetings occur at 6:30 pm on the second and fourth Monday of every month\, unless it falls on a holiday\, then the meeting will be the Wednesday immediately following at 6:30 pm.
URL:https://guilfordvt.gov/event/selectboard-meeting-35/2028-08-14/
LOCATION:Guilford Town Office\, 236 School Rd\, Guilford\, VT\, 05301\, United States
CATEGORIES:Selectboard
END:VEVENT
BEGIN:VEVENT
DTSTART;TZID=America/New_York:20280828T183000
DTEND;TZID=America/New_York:20280828T200000
DTSTAMP:20260419T094733
CREATED:20260304T180753Z
LAST-MODIFIED:20260304T181527Z
UID:10007101-1851100200-1851105600@guilfordvt.gov
SUMMARY:Selectboard Meeting
DESCRIPTION:Regularly Scheduled Selectboard Meetings occur at 6:30 pm on the second and fourth Monday of every month\, unless it falls on a holiday\, then the meeting will be the Wednesday immediately following at 6:30 pm.
URL:https://guilfordvt.gov/event/selectboard-meeting-36/2028-08-28/
LOCATION:Guilford Town Office\, 236 School Rd\, Guilford\, VT\, 05301\, United States
CATEGORIES:Selectboard
END:VEVENT
BEGIN:VEVENT
DTSTART;TZID=America/New_York:20280911T183000
DTEND;TZID=America/New_York:20280911T200000
DTSTAMP:20260419T094733
CREATED:20241107T174530Z
LAST-MODIFIED:20260304T181015Z
UID:10006974-1852309800-1852315200@guilfordvt.gov
SUMMARY:Selectboard Meeting
DESCRIPTION:Regularly Scheduled Selectboard Meetings occur at 6:30 pm on the second and fourth Monday of every month\, unless it falls on a holiday\, then the meeting will be the Wednesday immediately following at 6:30 pm.
URL:https://guilfordvt.gov/event/selectboard-meeting-35/2028-09-11/
LOCATION:Guilford Town Office\, 236 School Rd\, Guilford\, VT\, 05301\, United States
CATEGORIES:Selectboard
END:VEVENT
BEGIN:VEVENT
DTSTART;TZID=America/New_York:20280925T183000
DTEND;TZID=America/New_York:20280925T200000
DTSTAMP:20260419T094733
CREATED:20260304T180753Z
LAST-MODIFIED:20260304T181527Z
UID:10007102-1853519400-1853524800@guilfordvt.gov
SUMMARY:Selectboard Meeting
DESCRIPTION:Regularly Scheduled Selectboard Meetings occur at 6:30 pm on the second and fourth Monday of every month\, unless it falls on a holiday\, then the meeting will be the Wednesday immediately following at 6:30 pm.
URL:https://guilfordvt.gov/event/selectboard-meeting-36/2028-09-25/
LOCATION:Guilford Town Office\, 236 School Rd\, Guilford\, VT\, 05301\, United States
CATEGORIES:Selectboard
END:VEVENT
BEGIN:VEVENT
DTSTART;TZID=America/New_York:20281009T183000
DTEND;TZID=America/New_York:20281009T200000
DTSTAMP:20260419T094733
CREATED:20241107T174530Z
LAST-MODIFIED:20260304T181015Z
UID:10006975-1854729000-1854734400@guilfordvt.gov
SUMMARY:Selectboard Meeting
DESCRIPTION:Regularly Scheduled Selectboard Meetings occur at 6:30 pm on the second and fourth Monday of every month\, unless it falls on a holiday\, then the meeting will be the Wednesday immediately following at 6:30 pm.
URL:https://guilfordvt.gov/event/selectboard-meeting-35/2028-10-09/
LOCATION:Guilford Town Office\, 236 School Rd\, Guilford\, VT\, 05301\, United States
CATEGORIES:Selectboard
END:VEVENT
BEGIN:VEVENT
DTSTART;TZID=America/New_York:20281023T183000
DTEND;TZID=America/New_York:20281023T200000
DTSTAMP:20260419T094733
CREATED:20260304T180753Z
LAST-MODIFIED:20260304T181527Z
UID:10007103-1855938600-1855944000@guilfordvt.gov
SUMMARY:Selectboard Meeting
DESCRIPTION:Regularly Scheduled Selectboard Meetings occur at 6:30 pm on the second and fourth Monday of every month\, unless it falls on a holiday\, then the meeting will be the Wednesday immediately following at 6:30 pm.
URL:https://guilfordvt.gov/event/selectboard-meeting-36/2028-10-23/
LOCATION:Guilford Town Office\, 236 School Rd\, Guilford\, VT\, 05301\, United States
CATEGORIES:Selectboard
END:VEVENT
BEGIN:VEVENT
DTSTART;TZID=America/New_York:20281113T183000
DTEND;TZID=America/New_York:20281113T200000
DTSTAMP:20260419T094733
CREATED:20241107T174530Z
LAST-MODIFIED:20260304T181015Z
UID:10006976-1857753000-1857758400@guilfordvt.gov
SUMMARY:Selectboard Meeting
DESCRIPTION:Regularly Scheduled Selectboard Meetings occur at 6:30 pm on the second and fourth Monday of every month\, unless it falls on a holiday\, then the meeting will be the Wednesday immediately following at 6:30 pm.
URL:https://guilfordvt.gov/event/selectboard-meeting-35/2028-11-13/
LOCATION:Guilford Town Office\, 236 School Rd\, Guilford\, VT\, 05301\, United States
CATEGORIES:Selectboard
END:VEVENT
BEGIN:VEVENT
DTSTART;TZID=America/New_York:20281127T183000
DTEND;TZID=America/New_York:20281127T200000
DTSTAMP:20260419T094733
CREATED:20260304T180753Z
LAST-MODIFIED:20260304T181527Z
UID:10007104-1858962600-1858968000@guilfordvt.gov
SUMMARY:Selectboard Meeting
DESCRIPTION:Regularly Scheduled Selectboard Meetings occur at 6:30 pm on the second and fourth Monday of every month\, unless it falls on a holiday\, then the meeting will be the Wednesday immediately following at 6:30 pm.
URL:https://guilfordvt.gov/event/selectboard-meeting-36/2028-11-27/
LOCATION:Guilford Town Office\, 236 School Rd\, Guilford\, VT\, 05301\, United States
CATEGORIES:Selectboard
END:VEVENT
BEGIN:VEVENT
DTSTART;TZID=America/New_York:20281211T183000
DTEND;TZID=America/New_York:20281211T200000
DTSTAMP:20260419T094733
CREATED:20241107T174530Z
LAST-MODIFIED:20260304T181015Z
UID:10006977-1860172200-1860177600@guilfordvt.gov
SUMMARY:Selectboard Meeting
DESCRIPTION:Regularly Scheduled Selectboard Meetings occur at 6:30 pm on the second and fourth Monday of every month\, unless it falls on a holiday\, then the meeting will be the Wednesday immediately following at 6:30 pm.
URL:https://guilfordvt.gov/event/selectboard-meeting-35/2028-12-11/
LOCATION:Guilford Town Office\, 236 School Rd\, Guilford\, VT\, 05301\, United States
CATEGORIES:Selectboard
END:VEVENT
BEGIN:VEVENT
DTSTART;TZID=America/New_York:20281225T183000
DTEND;TZID=America/New_York:20281225T200000
DTSTAMP:20260419T094733
CREATED:20260304T180753Z
LAST-MODIFIED:20260304T181527Z
UID:10007105-1861381800-1861387200@guilfordvt.gov
SUMMARY:Selectboard Meeting
DESCRIPTION:Regularly Scheduled Selectboard Meetings occur at 6:30 pm on the second and fourth Monday of every month\, unless it falls on a holiday\, then the meeting will be the Wednesday immediately following at 6:30 pm.
URL:https://guilfordvt.gov/event/selectboard-meeting-36/2028-12-25/
LOCATION:Guilford Town Office\, 236 School Rd\, Guilford\, VT\, 05301\, United States
CATEGORIES:Selectboard
END:VEVENT
BEGIN:VEVENT
DTSTART;TZID=America/New_York:20290108T183000
DTEND;TZID=America/New_York:20290108T200000
DTSTAMP:20260419T094733
CREATED:20241107T174530Z
LAST-MODIFIED:20260304T181015Z
UID:10006978-1862591400-1862596800@guilfordvt.gov
SUMMARY:Selectboard Meeting
DESCRIPTION:Regularly Scheduled Selectboard Meetings occur at 6:30 pm on the second and fourth Monday of every month\, unless it falls on a holiday\, then the meeting will be the Wednesday immediately following at 6:30 pm.
URL:https://guilfordvt.gov/event/selectboard-meeting-35/2029-01-08/
LOCATION:Guilford Town Office\, 236 School Rd\, Guilford\, VT\, 05301\, United States
CATEGORIES:Selectboard
END:VEVENT
BEGIN:VEVENT
DTSTART;TZID=America/New_York:20290122T183000
DTEND;TZID=America/New_York:20290122T200000
DTSTAMP:20260419T094733
CREATED:20260304T180753Z
LAST-MODIFIED:20260304T181527Z
UID:10007106-1863801000-1863806400@guilfordvt.gov
SUMMARY:Selectboard Meeting
DESCRIPTION:Regularly Scheduled Selectboard Meetings occur at 6:30 pm on the second and fourth Monday of every month\, unless it falls on a holiday\, then the meeting will be the Wednesday immediately following at 6:30 pm.
URL:https://guilfordvt.gov/event/selectboard-meeting-36/2029-01-22/
LOCATION:Guilford Town Office\, 236 School Rd\, Guilford\, VT\, 05301\, United States
CATEGORIES:Selectboard
END:VEVENT
END:VCALENDAR