BEGIN:VCALENDAR
VERSION:2.0
PRODID:-//      Town of Guilford, Vermont - ECPv6.15.20//NONSGML v1.0//EN
CALSCALE:GREGORIAN
METHOD:PUBLISH
X-WR-CALNAME:      Town of Guilford, Vermont
X-ORIGINAL-URL:https://guilfordvt.gov
X-WR-CALDESC:Events for       Town of Guilford, Vermont
REFRESH-INTERVAL;VALUE=DURATION:PT1H
X-Robots-Tag:noindex
X-PUBLISHED-TTL:PT1H
BEGIN:VTIMEZONE
TZID:America/New_York
BEGIN:DAYLIGHT
TZOFFSETFROM:-0500
TZOFFSETTO:-0400
TZNAME:EDT
DTSTART:20250309T070000
END:DAYLIGHT
BEGIN:STANDARD
TZOFFSETFROM:-0400
TZOFFSETTO:-0500
TZNAME:EST
DTSTART:20251102T060000
END:STANDARD
BEGIN:DAYLIGHT
TZOFFSETFROM:-0500
TZOFFSETTO:-0400
TZNAME:EDT
DTSTART:20260308T070000
END:DAYLIGHT
BEGIN:STANDARD
TZOFFSETFROM:-0400
TZOFFSETTO:-0500
TZNAME:EST
DTSTART:20261101T060000
END:STANDARD
BEGIN:DAYLIGHT
TZOFFSETFROM:-0500
TZOFFSETTO:-0400
TZNAME:EDT
DTSTART:20270314T070000
END:DAYLIGHT
BEGIN:STANDARD
TZOFFSETFROM:-0400
TZOFFSETTO:-0500
TZNAME:EST
DTSTART:20271107T060000
END:STANDARD
BEGIN:DAYLIGHT
TZOFFSETFROM:-0500
TZOFFSETTO:-0400
TZNAME:EDT
DTSTART:20280312T070000
END:DAYLIGHT
BEGIN:STANDARD
TZOFFSETFROM:-0400
TZOFFSETTO:-0500
TZNAME:EST
DTSTART:20281105T060000
END:STANDARD
BEGIN:DAYLIGHT
TZOFFSETFROM:-0500
TZOFFSETTO:-0400
TZNAME:EDT
DTSTART:20290311T070000
END:DAYLIGHT
BEGIN:STANDARD
TZOFFSETFROM:-0400
TZOFFSETTO:-0500
TZNAME:EST
DTSTART:20291104T060000
END:STANDARD
END:VTIMEZONE
BEGIN:VEVENT
DTSTART;TZID=America/New_York:20260520T183000
DTEND;TZID=America/New_York:20260520T200000
DTSTAMP:20260424T060520
CREATED:20240401T182832Z
LAST-MODIFIED:20240401T182832Z
UID:10002373-1779301800-1779307200@guilfordvt.gov
SUMMARY:Guilford Free Library Talk About Books
DESCRIPTION:Join librarian Leah Gessner every third Wednesday of the month in person at the Guilford Free Library or via Zoom at 6:30pm. All are welcome to request a copy of the current book by emailing or calling the library.
URL:https://guilfordvt.gov/event/guilford-free-library-talk-about-books/2026-05-20/
LOCATION:Guilford Free Library\, 4024 Guilford Center Rd\, Guilford\, VT
CATEGORIES:Guilford Recreation Calendar
ATTACH;FMTTYPE=image/jpeg:https://guilfordvt.gov/wp-content/uploads/2024/04/book-club-2.jpg
ORGANIZER;CN="Guilford Free Library":MAILTO:staff@guilfordfreelibraryvt.org
END:VEVENT
BEGIN:VEVENT
DTSTART;TZID=America/New_York:20260617T183000
DTEND;TZID=America/New_York:20260617T200000
DTSTAMP:20260424T060520
CREATED:20240401T182832Z
LAST-MODIFIED:20240401T182832Z
UID:10002374-1781721000-1781726400@guilfordvt.gov
SUMMARY:Guilford Free Library Talk About Books
DESCRIPTION:Join librarian Leah Gessner every third Wednesday of the month in person at the Guilford Free Library or via Zoom at 6:30pm. All are welcome to request a copy of the current book by emailing or calling the library.
URL:https://guilfordvt.gov/event/guilford-free-library-talk-about-books/2026-06-17/
LOCATION:Guilford Free Library\, 4024 Guilford Center Rd\, Guilford\, VT
CATEGORIES:Guilford Recreation Calendar
ATTACH;FMTTYPE=image/jpeg:https://guilfordvt.gov/wp-content/uploads/2024/04/book-club-2.jpg
ORGANIZER;CN="Guilford Free Library":MAILTO:staff@guilfordfreelibraryvt.org
END:VEVENT
BEGIN:VEVENT
DTSTART;TZID=America/New_York:20260715T183000
DTEND;TZID=America/New_York:20260715T200000
DTSTAMP:20260424T060520
CREATED:20240401T182832Z
LAST-MODIFIED:20240401T182832Z
UID:10002375-1784140200-1784145600@guilfordvt.gov
SUMMARY:Guilford Free Library Talk About Books
DESCRIPTION:Join librarian Leah Gessner every third Wednesday of the month in person at the Guilford Free Library or via Zoom at 6:30pm. All are welcome to request a copy of the current book by emailing or calling the library.
URL:https://guilfordvt.gov/event/guilford-free-library-talk-about-books/2026-07-15/
LOCATION:Guilford Free Library\, 4024 Guilford Center Rd\, Guilford\, VT
CATEGORIES:Guilford Recreation Calendar
ATTACH;FMTTYPE=image/jpeg:https://guilfordvt.gov/wp-content/uploads/2024/04/book-club-2.jpg
ORGANIZER;CN="Guilford Free Library":MAILTO:staff@guilfordfreelibraryvt.org
END:VEVENT
BEGIN:VEVENT
DTSTART;TZID=America/New_York:20260819T183000
DTEND;TZID=America/New_York:20260819T200000
DTSTAMP:20260424T060520
CREATED:20240401T182832Z
LAST-MODIFIED:20240401T182832Z
UID:10002376-1787164200-1787169600@guilfordvt.gov
SUMMARY:Guilford Free Library Talk About Books
DESCRIPTION:Join librarian Leah Gessner every third Wednesday of the month in person at the Guilford Free Library or via Zoom at 6:30pm. All are welcome to request a copy of the current book by emailing or calling the library.
URL:https://guilfordvt.gov/event/guilford-free-library-talk-about-books/2026-08-19/
LOCATION:Guilford Free Library\, 4024 Guilford Center Rd\, Guilford\, VT
CATEGORIES:Guilford Recreation Calendar
ATTACH;FMTTYPE=image/jpeg:https://guilfordvt.gov/wp-content/uploads/2024/04/book-club-2.jpg
ORGANIZER;CN="Guilford Free Library":MAILTO:staff@guilfordfreelibraryvt.org
END:VEVENT
BEGIN:VEVENT
DTSTART;TZID=America/New_York:20260916T183000
DTEND;TZID=America/New_York:20260916T200000
DTSTAMP:20260424T060520
CREATED:20240401T182832Z
LAST-MODIFIED:20240401T182832Z
UID:10002377-1789583400-1789588800@guilfordvt.gov
SUMMARY:Guilford Free Library Talk About Books
DESCRIPTION:Join librarian Leah Gessner every third Wednesday of the month in person at the Guilford Free Library or via Zoom at 6:30pm. All are welcome to request a copy of the current book by emailing or calling the library.
URL:https://guilfordvt.gov/event/guilford-free-library-talk-about-books/2026-09-16/
LOCATION:Guilford Free Library\, 4024 Guilford Center Rd\, Guilford\, VT
CATEGORIES:Guilford Recreation Calendar
ATTACH;FMTTYPE=image/jpeg:https://guilfordvt.gov/wp-content/uploads/2024/04/book-club-2.jpg
ORGANIZER;CN="Guilford Free Library":MAILTO:staff@guilfordfreelibraryvt.org
END:VEVENT
BEGIN:VEVENT
DTSTART;TZID=America/New_York:20261021T183000
DTEND;TZID=America/New_York:20261021T200000
DTSTAMP:20260424T060520
CREATED:20240401T182832Z
LAST-MODIFIED:20240401T182832Z
UID:10002378-1792607400-1792612800@guilfordvt.gov
SUMMARY:Guilford Free Library Talk About Books
DESCRIPTION:Join librarian Leah Gessner every third Wednesday of the month in person at the Guilford Free Library or via Zoom at 6:30pm. All are welcome to request a copy of the current book by emailing or calling the library.
URL:https://guilfordvt.gov/event/guilford-free-library-talk-about-books/2026-10-21/
LOCATION:Guilford Free Library\, 4024 Guilford Center Rd\, Guilford\, VT
CATEGORIES:Guilford Recreation Calendar
ATTACH;FMTTYPE=image/jpeg:https://guilfordvt.gov/wp-content/uploads/2024/04/book-club-2.jpg
ORGANIZER;CN="Guilford Free Library":MAILTO:staff@guilfordfreelibraryvt.org
END:VEVENT
BEGIN:VEVENT
DTSTART;TZID=America/New_York:20261118T183000
DTEND;TZID=America/New_York:20261118T200000
DTSTAMP:20260424T060520
CREATED:20240401T182832Z
LAST-MODIFIED:20240401T182832Z
UID:10002379-1795026600-1795032000@guilfordvt.gov
SUMMARY:Guilford Free Library Talk About Books
DESCRIPTION:Join librarian Leah Gessner every third Wednesday of the month in person at the Guilford Free Library or via Zoom at 6:30pm. All are welcome to request a copy of the current book by emailing or calling the library.
URL:https://guilfordvt.gov/event/guilford-free-library-talk-about-books/2026-11-18/
LOCATION:Guilford Free Library\, 4024 Guilford Center Rd\, Guilford\, VT
CATEGORIES:Guilford Recreation Calendar
ATTACH;FMTTYPE=image/jpeg:https://guilfordvt.gov/wp-content/uploads/2024/04/book-club-2.jpg
ORGANIZER;CN="Guilford Free Library":MAILTO:staff@guilfordfreelibraryvt.org
END:VEVENT
BEGIN:VEVENT
DTSTART;TZID=America/New_York:20261216T183000
DTEND;TZID=America/New_York:20261216T200000
DTSTAMP:20260424T060520
CREATED:20240401T182832Z
LAST-MODIFIED:20240401T182832Z
UID:10002380-1797445800-1797451200@guilfordvt.gov
SUMMARY:Guilford Free Library Talk About Books
DESCRIPTION:Join librarian Leah Gessner every third Wednesday of the month in person at the Guilford Free Library or via Zoom at 6:30pm. All are welcome to request a copy of the current book by emailing or calling the library.
URL:https://guilfordvt.gov/event/guilford-free-library-talk-about-books/2026-12-16/
LOCATION:Guilford Free Library\, 4024 Guilford Center Rd\, Guilford\, VT
CATEGORIES:Guilford Recreation Calendar
ATTACH;FMTTYPE=image/jpeg:https://guilfordvt.gov/wp-content/uploads/2024/04/book-club-2.jpg
ORGANIZER;CN="Guilford Free Library":MAILTO:staff@guilfordfreelibraryvt.org
END:VEVENT
BEGIN:VEVENT
DTSTART;TZID=America/New_York:20270120T183000
DTEND;TZID=America/New_York:20270120T200000
DTSTAMP:20260424T060520
CREATED:20240401T182832Z
LAST-MODIFIED:20240401T182832Z
UID:10002381-1800469800-1800475200@guilfordvt.gov
SUMMARY:Guilford Free Library Talk About Books
DESCRIPTION:Join librarian Leah Gessner every third Wednesday of the month in person at the Guilford Free Library or via Zoom at 6:30pm. All are welcome to request a copy of the current book by emailing or calling the library.
URL:https://guilfordvt.gov/event/guilford-free-library-talk-about-books/2027-01-20/
LOCATION:Guilford Free Library\, 4024 Guilford Center Rd\, Guilford\, VT
CATEGORIES:Guilford Recreation Calendar
ATTACH;FMTTYPE=image/jpeg:https://guilfordvt.gov/wp-content/uploads/2024/04/book-club-2.jpg
ORGANIZER;CN="Guilford Free Library":MAILTO:staff@guilfordfreelibraryvt.org
END:VEVENT
BEGIN:VEVENT
DTSTART;TZID=America/New_York:20270217T183000
DTEND;TZID=America/New_York:20270217T200000
DTSTAMP:20260424T060520
CREATED:20240401T182832Z
LAST-MODIFIED:20240401T182832Z
UID:10002382-1802889000-1802894400@guilfordvt.gov
SUMMARY:Guilford Free Library Talk About Books
DESCRIPTION:Join librarian Leah Gessner every third Wednesday of the month in person at the Guilford Free Library or via Zoom at 6:30pm. All are welcome to request a copy of the current book by emailing or calling the library.
URL:https://guilfordvt.gov/event/guilford-free-library-talk-about-books/2027-02-17/
LOCATION:Guilford Free Library\, 4024 Guilford Center Rd\, Guilford\, VT
CATEGORIES:Guilford Recreation Calendar
ATTACH;FMTTYPE=image/jpeg:https://guilfordvt.gov/wp-content/uploads/2024/04/book-club-2.jpg
ORGANIZER;CN="Guilford Free Library":MAILTO:staff@guilfordfreelibraryvt.org
END:VEVENT
BEGIN:VEVENT
DTSTART;TZID=America/New_York:20270317T183000
DTEND;TZID=America/New_York:20270317T200000
DTSTAMP:20260424T060520
CREATED:20240401T182832Z
LAST-MODIFIED:20240401T182832Z
UID:10002383-1805308200-1805313600@guilfordvt.gov
SUMMARY:Guilford Free Library Talk About Books
DESCRIPTION:Join librarian Leah Gessner every third Wednesday of the month in person at the Guilford Free Library or via Zoom at 6:30pm. All are welcome to request a copy of the current book by emailing or calling the library.
URL:https://guilfordvt.gov/event/guilford-free-library-talk-about-books/2027-03-17/
LOCATION:Guilford Free Library\, 4024 Guilford Center Rd\, Guilford\, VT
CATEGORIES:Guilford Recreation Calendar
ATTACH;FMTTYPE=image/jpeg:https://guilfordvt.gov/wp-content/uploads/2024/04/book-club-2.jpg
ORGANIZER;CN="Guilford Free Library":MAILTO:staff@guilfordfreelibraryvt.org
END:VEVENT
BEGIN:VEVENT
DTSTART;TZID=America/New_York:20270421T183000
DTEND;TZID=America/New_York:20270421T200000
DTSTAMP:20260424T060520
CREATED:20240401T182832Z
LAST-MODIFIED:20240401T182832Z
UID:10002384-1808332200-1808337600@guilfordvt.gov
SUMMARY:Guilford Free Library Talk About Books
DESCRIPTION:Join librarian Leah Gessner every third Wednesday of the month in person at the Guilford Free Library or via Zoom at 6:30pm. All are welcome to request a copy of the current book by emailing or calling the library.
URL:https://guilfordvt.gov/event/guilford-free-library-talk-about-books/2027-04-21/
LOCATION:Guilford Free Library\, 4024 Guilford Center Rd\, Guilford\, VT
CATEGORIES:Guilford Recreation Calendar
ATTACH;FMTTYPE=image/jpeg:https://guilfordvt.gov/wp-content/uploads/2024/04/book-club-2.jpg
ORGANIZER;CN="Guilford Free Library":MAILTO:staff@guilfordfreelibraryvt.org
END:VEVENT
BEGIN:VEVENT
DTSTART;TZID=America/New_York:20270519T183000
DTEND;TZID=America/New_York:20270519T200000
DTSTAMP:20260424T060520
CREATED:20240401T182832Z
LAST-MODIFIED:20240401T182832Z
UID:10002385-1810751400-1810756800@guilfordvt.gov
SUMMARY:Guilford Free Library Talk About Books
DESCRIPTION:Join librarian Leah Gessner every third Wednesday of the month in person at the Guilford Free Library or via Zoom at 6:30pm. All are welcome to request a copy of the current book by emailing or calling the library.
URL:https://guilfordvt.gov/event/guilford-free-library-talk-about-books/2027-05-19/
LOCATION:Guilford Free Library\, 4024 Guilford Center Rd\, Guilford\, VT
CATEGORIES:Guilford Recreation Calendar
ATTACH;FMTTYPE=image/jpeg:https://guilfordvt.gov/wp-content/uploads/2024/04/book-club-2.jpg
ORGANIZER;CN="Guilford Free Library":MAILTO:staff@guilfordfreelibraryvt.org
END:VEVENT
BEGIN:VEVENT
DTSTART;TZID=America/New_York:20270616T183000
DTEND;TZID=America/New_York:20270616T200000
DTSTAMP:20260424T060520
CREATED:20240401T182832Z
LAST-MODIFIED:20240401T182832Z
UID:10002386-1813170600-1813176000@guilfordvt.gov
SUMMARY:Guilford Free Library Talk About Books
DESCRIPTION:Join librarian Leah Gessner every third Wednesday of the month in person at the Guilford Free Library or via Zoom at 6:30pm. All are welcome to request a copy of the current book by emailing or calling the library.
URL:https://guilfordvt.gov/event/guilford-free-library-talk-about-books/2027-06-16/
LOCATION:Guilford Free Library\, 4024 Guilford Center Rd\, Guilford\, VT
CATEGORIES:Guilford Recreation Calendar
ATTACH;FMTTYPE=image/jpeg:https://guilfordvt.gov/wp-content/uploads/2024/04/book-club-2.jpg
ORGANIZER;CN="Guilford Free Library":MAILTO:staff@guilfordfreelibraryvt.org
END:VEVENT
BEGIN:VEVENT
DTSTART;TZID=America/New_York:20270721T183000
DTEND;TZID=America/New_York:20270721T200000
DTSTAMP:20260424T060520
CREATED:20240401T182832Z
LAST-MODIFIED:20240401T182832Z
UID:10002387-1816194600-1816200000@guilfordvt.gov
SUMMARY:Guilford Free Library Talk About Books
DESCRIPTION:Join librarian Leah Gessner every third Wednesday of the month in person at the Guilford Free Library or via Zoom at 6:30pm. All are welcome to request a copy of the current book by emailing or calling the library.
URL:https://guilfordvt.gov/event/guilford-free-library-talk-about-books/2027-07-21/
LOCATION:Guilford Free Library\, 4024 Guilford Center Rd\, Guilford\, VT
CATEGORIES:Guilford Recreation Calendar
ATTACH;FMTTYPE=image/jpeg:https://guilfordvt.gov/wp-content/uploads/2024/04/book-club-2.jpg
ORGANIZER;CN="Guilford Free Library":MAILTO:staff@guilfordfreelibraryvt.org
END:VEVENT
BEGIN:VEVENT
DTSTART;TZID=America/New_York:20270818T183000
DTEND;TZID=America/New_York:20270818T200000
DTSTAMP:20260424T060520
CREATED:20240401T182832Z
LAST-MODIFIED:20240401T182832Z
UID:10002388-1818613800-1818619200@guilfordvt.gov
SUMMARY:Guilford Free Library Talk About Books
DESCRIPTION:Join librarian Leah Gessner every third Wednesday of the month in person at the Guilford Free Library or via Zoom at 6:30pm. All are welcome to request a copy of the current book by emailing or calling the library.
URL:https://guilfordvt.gov/event/guilford-free-library-talk-about-books/2027-08-18/
LOCATION:Guilford Free Library\, 4024 Guilford Center Rd\, Guilford\, VT
CATEGORIES:Guilford Recreation Calendar
ATTACH;FMTTYPE=image/jpeg:https://guilfordvt.gov/wp-content/uploads/2024/04/book-club-2.jpg
ORGANIZER;CN="Guilford Free Library":MAILTO:staff@guilfordfreelibraryvt.org
END:VEVENT
BEGIN:VEVENT
DTSTART;TZID=America/New_York:20270915T183000
DTEND;TZID=America/New_York:20270915T200000
DTSTAMP:20260424T060520
CREATED:20240401T182832Z
LAST-MODIFIED:20240401T182832Z
UID:10002389-1821033000-1821038400@guilfordvt.gov
SUMMARY:Guilford Free Library Talk About Books
DESCRIPTION:Join librarian Leah Gessner every third Wednesday of the month in person at the Guilford Free Library or via Zoom at 6:30pm. All are welcome to request a copy of the current book by emailing or calling the library.
URL:https://guilfordvt.gov/event/guilford-free-library-talk-about-books/2027-09-15/
LOCATION:Guilford Free Library\, 4024 Guilford Center Rd\, Guilford\, VT
CATEGORIES:Guilford Recreation Calendar
ATTACH;FMTTYPE=image/jpeg:https://guilfordvt.gov/wp-content/uploads/2024/04/book-club-2.jpg
ORGANIZER;CN="Guilford Free Library":MAILTO:staff@guilfordfreelibraryvt.org
END:VEVENT
BEGIN:VEVENT
DTSTART;TZID=America/New_York:20271020T183000
DTEND;TZID=America/New_York:20271020T200000
DTSTAMP:20260424T060520
CREATED:20240401T182832Z
LAST-MODIFIED:20240401T182832Z
UID:10002390-1824057000-1824062400@guilfordvt.gov
SUMMARY:Guilford Free Library Talk About Books
DESCRIPTION:Join librarian Leah Gessner every third Wednesday of the month in person at the Guilford Free Library or via Zoom at 6:30pm. All are welcome to request a copy of the current book by emailing or calling the library.
URL:https://guilfordvt.gov/event/guilford-free-library-talk-about-books/2027-10-20/
LOCATION:Guilford Free Library\, 4024 Guilford Center Rd\, Guilford\, VT
CATEGORIES:Guilford Recreation Calendar
ATTACH;FMTTYPE=image/jpeg:https://guilfordvt.gov/wp-content/uploads/2024/04/book-club-2.jpg
ORGANIZER;CN="Guilford Free Library":MAILTO:staff@guilfordfreelibraryvt.org
END:VEVENT
BEGIN:VEVENT
DTSTART;TZID=America/New_York:20271117T183000
DTEND;TZID=America/New_York:20271117T200000
DTSTAMP:20260424T060520
CREATED:20240401T182832Z
LAST-MODIFIED:20240401T182832Z
UID:10002391-1826476200-1826481600@guilfordvt.gov
SUMMARY:Guilford Free Library Talk About Books
DESCRIPTION:Join librarian Leah Gessner every third Wednesday of the month in person at the Guilford Free Library or via Zoom at 6:30pm. All are welcome to request a copy of the current book by emailing or calling the library.
URL:https://guilfordvt.gov/event/guilford-free-library-talk-about-books/2027-11-17/
LOCATION:Guilford Free Library\, 4024 Guilford Center Rd\, Guilford\, VT
CATEGORIES:Guilford Recreation Calendar
ATTACH;FMTTYPE=image/jpeg:https://guilfordvt.gov/wp-content/uploads/2024/04/book-club-2.jpg
ORGANIZER;CN="Guilford Free Library":MAILTO:staff@guilfordfreelibraryvt.org
END:VEVENT
BEGIN:VEVENT
DTSTART;TZID=America/New_York:20271215T183000
DTEND;TZID=America/New_York:20271215T200000
DTSTAMP:20260424T060520
CREATED:20240401T182832Z
LAST-MODIFIED:20240401T182832Z
UID:10002392-1828895400-1828900800@guilfordvt.gov
SUMMARY:Guilford Free Library Talk About Books
DESCRIPTION:Join librarian Leah Gessner every third Wednesday of the month in person at the Guilford Free Library or via Zoom at 6:30pm. All are welcome to request a copy of the current book by emailing or calling the library.
URL:https://guilfordvt.gov/event/guilford-free-library-talk-about-books/2027-12-15/
LOCATION:Guilford Free Library\, 4024 Guilford Center Rd\, Guilford\, VT
CATEGORIES:Guilford Recreation Calendar
ATTACH;FMTTYPE=image/jpeg:https://guilfordvt.gov/wp-content/uploads/2024/04/book-club-2.jpg
ORGANIZER;CN="Guilford Free Library":MAILTO:staff@guilfordfreelibraryvt.org
END:VEVENT
BEGIN:VEVENT
DTSTART;TZID=America/New_York:20280119T183000
DTEND;TZID=America/New_York:20280119T200000
DTSTAMP:20260424T060520
CREATED:20240401T182832Z
LAST-MODIFIED:20240401T182832Z
UID:10002393-1831919400-1831924800@guilfordvt.gov
SUMMARY:Guilford Free Library Talk About Books
DESCRIPTION:Join librarian Leah Gessner every third Wednesday of the month in person at the Guilford Free Library or via Zoom at 6:30pm. All are welcome to request a copy of the current book by emailing or calling the library.
URL:https://guilfordvt.gov/event/guilford-free-library-talk-about-books/2028-01-19/
LOCATION:Guilford Free Library\, 4024 Guilford Center Rd\, Guilford\, VT
CATEGORIES:Guilford Recreation Calendar
ATTACH;FMTTYPE=image/jpeg:https://guilfordvt.gov/wp-content/uploads/2024/04/book-club-2.jpg
ORGANIZER;CN="Guilford Free Library":MAILTO:staff@guilfordfreelibraryvt.org
END:VEVENT
BEGIN:VEVENT
DTSTART;TZID=America/New_York:20280216T183000
DTEND;TZID=America/New_York:20280216T200000
DTSTAMP:20260424T060520
CREATED:20240401T182832Z
LAST-MODIFIED:20240401T182832Z
UID:10002394-1834338600-1834344000@guilfordvt.gov
SUMMARY:Guilford Free Library Talk About Books
DESCRIPTION:Join librarian Leah Gessner every third Wednesday of the month in person at the Guilford Free Library or via Zoom at 6:30pm. All are welcome to request a copy of the current book by emailing or calling the library.
URL:https://guilfordvt.gov/event/guilford-free-library-talk-about-books/2028-02-16/
LOCATION:Guilford Free Library\, 4024 Guilford Center Rd\, Guilford\, VT
CATEGORIES:Guilford Recreation Calendar
ATTACH;FMTTYPE=image/jpeg:https://guilfordvt.gov/wp-content/uploads/2024/04/book-club-2.jpg
ORGANIZER;CN="Guilford Free Library":MAILTO:staff@guilfordfreelibraryvt.org
END:VEVENT
BEGIN:VEVENT
DTSTART;TZID=America/New_York:20280315T183000
DTEND;TZID=America/New_York:20280315T200000
DTSTAMP:20260424T060520
CREATED:20240401T182832Z
LAST-MODIFIED:20240401T182832Z
UID:10002395-1836757800-1836763200@guilfordvt.gov
SUMMARY:Guilford Free Library Talk About Books
DESCRIPTION:Join librarian Leah Gessner every third Wednesday of the month in person at the Guilford Free Library or via Zoom at 6:30pm. All are welcome to request a copy of the current book by emailing or calling the library.
URL:https://guilfordvt.gov/event/guilford-free-library-talk-about-books/2028-03-15/
LOCATION:Guilford Free Library\, 4024 Guilford Center Rd\, Guilford\, VT
CATEGORIES:Guilford Recreation Calendar
ATTACH;FMTTYPE=image/jpeg:https://guilfordvt.gov/wp-content/uploads/2024/04/book-club-2.jpg
ORGANIZER;CN="Guilford Free Library":MAILTO:staff@guilfordfreelibraryvt.org
END:VEVENT
BEGIN:VEVENT
DTSTART;TZID=America/New_York:20280419T183000
DTEND;TZID=America/New_York:20280419T200000
DTSTAMP:20260424T060520
CREATED:20240401T182832Z
LAST-MODIFIED:20240401T182832Z
UID:10002396-1839781800-1839787200@guilfordvt.gov
SUMMARY:Guilford Free Library Talk About Books
DESCRIPTION:Join librarian Leah Gessner every third Wednesday of the month in person at the Guilford Free Library or via Zoom at 6:30pm. All are welcome to request a copy of the current book by emailing or calling the library.
URL:https://guilfordvt.gov/event/guilford-free-library-talk-about-books/2028-04-19/
LOCATION:Guilford Free Library\, 4024 Guilford Center Rd\, Guilford\, VT
CATEGORIES:Guilford Recreation Calendar
ATTACH;FMTTYPE=image/jpeg:https://guilfordvt.gov/wp-content/uploads/2024/04/book-club-2.jpg
ORGANIZER;CN="Guilford Free Library":MAILTO:staff@guilfordfreelibraryvt.org
END:VEVENT
BEGIN:VEVENT
DTSTART;TZID=America/New_York:20280517T183000
DTEND;TZID=America/New_York:20280517T200000
DTSTAMP:20260424T060520
CREATED:20240401T182832Z
LAST-MODIFIED:20240401T182832Z
UID:10002397-1842201000-1842206400@guilfordvt.gov
SUMMARY:Guilford Free Library Talk About Books
DESCRIPTION:Join librarian Leah Gessner every third Wednesday of the month in person at the Guilford Free Library or via Zoom at 6:30pm. All are welcome to request a copy of the current book by emailing or calling the library.
URL:https://guilfordvt.gov/event/guilford-free-library-talk-about-books/2028-05-17/
LOCATION:Guilford Free Library\, 4024 Guilford Center Rd\, Guilford\, VT
CATEGORIES:Guilford Recreation Calendar
ATTACH;FMTTYPE=image/jpeg:https://guilfordvt.gov/wp-content/uploads/2024/04/book-club-2.jpg
ORGANIZER;CN="Guilford Free Library":MAILTO:staff@guilfordfreelibraryvt.org
END:VEVENT
BEGIN:VEVENT
DTSTART;TZID=America/New_York:20280621T183000
DTEND;TZID=America/New_York:20280621T200000
DTSTAMP:20260424T060520
CREATED:20240401T182832Z
LAST-MODIFIED:20240401T182832Z
UID:10002398-1845225000-1845230400@guilfordvt.gov
SUMMARY:Guilford Free Library Talk About Books
DESCRIPTION:Join librarian Leah Gessner every third Wednesday of the month in person at the Guilford Free Library or via Zoom at 6:30pm. All are welcome to request a copy of the current book by emailing or calling the library.
URL:https://guilfordvt.gov/event/guilford-free-library-talk-about-books/2028-06-21/
LOCATION:Guilford Free Library\, 4024 Guilford Center Rd\, Guilford\, VT
CATEGORIES:Guilford Recreation Calendar
ATTACH;FMTTYPE=image/jpeg:https://guilfordvt.gov/wp-content/uploads/2024/04/book-club-2.jpg
ORGANIZER;CN="Guilford Free Library":MAILTO:staff@guilfordfreelibraryvt.org
END:VEVENT
BEGIN:VEVENT
DTSTART;TZID=America/New_York:20280719T183000
DTEND;TZID=America/New_York:20280719T200000
DTSTAMP:20260424T060520
CREATED:20240401T182832Z
LAST-MODIFIED:20240401T182832Z
UID:10002399-1847644200-1847649600@guilfordvt.gov
SUMMARY:Guilford Free Library Talk About Books
DESCRIPTION:Join librarian Leah Gessner every third Wednesday of the month in person at the Guilford Free Library or via Zoom at 6:30pm. All are welcome to request a copy of the current book by emailing or calling the library.
URL:https://guilfordvt.gov/event/guilford-free-library-talk-about-books/2028-07-19/
LOCATION:Guilford Free Library\, 4024 Guilford Center Rd\, Guilford\, VT
CATEGORIES:Guilford Recreation Calendar
ATTACH;FMTTYPE=image/jpeg:https://guilfordvt.gov/wp-content/uploads/2024/04/book-club-2.jpg
ORGANIZER;CN="Guilford Free Library":MAILTO:staff@guilfordfreelibraryvt.org
END:VEVENT
BEGIN:VEVENT
DTSTART;TZID=America/New_York:20280816T183000
DTEND;TZID=America/New_York:20280816T200000
DTSTAMP:20260424T060520
CREATED:20240401T182832Z
LAST-MODIFIED:20240401T182832Z
UID:10002400-1850063400-1850068800@guilfordvt.gov
SUMMARY:Guilford Free Library Talk About Books
DESCRIPTION:Join librarian Leah Gessner every third Wednesday of the month in person at the Guilford Free Library or via Zoom at 6:30pm. All are welcome to request a copy of the current book by emailing or calling the library.
URL:https://guilfordvt.gov/event/guilford-free-library-talk-about-books/2028-08-16/
LOCATION:Guilford Free Library\, 4024 Guilford Center Rd\, Guilford\, VT
CATEGORIES:Guilford Recreation Calendar
ATTACH;FMTTYPE=image/jpeg:https://guilfordvt.gov/wp-content/uploads/2024/04/book-club-2.jpg
ORGANIZER;CN="Guilford Free Library":MAILTO:staff@guilfordfreelibraryvt.org
END:VEVENT
BEGIN:VEVENT
DTSTART;TZID=America/New_York:20280920T183000
DTEND;TZID=America/New_York:20280920T200000
DTSTAMP:20260424T060520
CREATED:20240401T182832Z
LAST-MODIFIED:20240401T182832Z
UID:10002401-1853087400-1853092800@guilfordvt.gov
SUMMARY:Guilford Free Library Talk About Books
DESCRIPTION:Join librarian Leah Gessner every third Wednesday of the month in person at the Guilford Free Library or via Zoom at 6:30pm. All are welcome to request a copy of the current book by emailing or calling the library.
URL:https://guilfordvt.gov/event/guilford-free-library-talk-about-books/2028-09-20/
LOCATION:Guilford Free Library\, 4024 Guilford Center Rd\, Guilford\, VT
CATEGORIES:Guilford Recreation Calendar
ATTACH;FMTTYPE=image/jpeg:https://guilfordvt.gov/wp-content/uploads/2024/04/book-club-2.jpg
ORGANIZER;CN="Guilford Free Library":MAILTO:staff@guilfordfreelibraryvt.org
END:VEVENT
BEGIN:VEVENT
DTSTART;TZID=America/New_York:20281018T183000
DTEND;TZID=America/New_York:20281018T200000
DTSTAMP:20260424T060520
CREATED:20240401T182832Z
LAST-MODIFIED:20240401T182832Z
UID:10002402-1855506600-1855512000@guilfordvt.gov
SUMMARY:Guilford Free Library Talk About Books
DESCRIPTION:Join librarian Leah Gessner every third Wednesday of the month in person at the Guilford Free Library or via Zoom at 6:30pm. All are welcome to request a copy of the current book by emailing or calling the library.
URL:https://guilfordvt.gov/event/guilford-free-library-talk-about-books/2028-10-18/
LOCATION:Guilford Free Library\, 4024 Guilford Center Rd\, Guilford\, VT
CATEGORIES:Guilford Recreation Calendar
ATTACH;FMTTYPE=image/jpeg:https://guilfordvt.gov/wp-content/uploads/2024/04/book-club-2.jpg
ORGANIZER;CN="Guilford Free Library":MAILTO:staff@guilfordfreelibraryvt.org
END:VEVENT
END:VCALENDAR